BEGIN:VCALENDAR
VERSION:2.0
PRODID:-//City Of Kaukauna - ECPv6.15.20//NONSGML v1.0//EN
CALSCALE:GREGORIAN
METHOD:PUBLISH
X-ORIGINAL-URL:https://www.kaukauna.gov
X-WR-CALDESC:Events for City Of Kaukauna
REFRESH-INTERVAL;VALUE=DURATION:PT1H
X-Robots-Tag:noindex
X-PUBLISHED-TTL:PT1H
BEGIN:VTIMEZONE
TZID:America/Chicago
BEGIN:DAYLIGHT
TZOFFSETFROM:-0600
TZOFFSETTO:-0500
TZNAME:CDT
DTSTART:20270314T080000
END:DAYLIGHT
BEGIN:STANDARD
TZOFFSETFROM:-0500
TZOFFSETTO:-0600
TZNAME:CST
DTSTART:20271107T070000
END:STANDARD
BEGIN:DAYLIGHT
TZOFFSETFROM:-0600
TZOFFSETTO:-0500
TZNAME:CDT
DTSTART:20280312T080000
END:DAYLIGHT
BEGIN:STANDARD
TZOFFSETFROM:-0500
TZOFFSETTO:-0600
TZNAME:CST
DTSTART:20281105T070000
END:STANDARD
BEGIN:DAYLIGHT
TZOFFSETFROM:-0600
TZOFFSETTO:-0500
TZNAME:CDT
DTSTART:20290311T080000
END:DAYLIGHT
BEGIN:STANDARD
TZOFFSETFROM:-0500
TZOFFSETTO:-0600
TZNAME:CST
DTSTART:20291104T070000
END:STANDARD
END:VTIMEZONE
BEGIN:VEVENT
DTSTART;VALUE=DATE:20280406
DTEND;VALUE=DATE:20280407
DTSTAMP:20260421T142107
CREATED:20241127T143134Z
LAST-MODIFIED:20251110T210954Z
UID:10000887-1838592000-1838678399@www.kaukauna.gov
SUMMARY:Recycle Pick-Up
DESCRIPTION:
URL:https://www.kaukauna.gov/event/recycle-pick-up/2028-04-06/
CATEGORIES:For Residents
ATTACH;FMTTYPE=image/png:https://www.kaukauna.gov/wp-content/uploads/2024/11/Recycle-photo-for-website.png
END:VEVENT
BEGIN:VEVENT
DTSTART;VALUE=DATE:20280417
DTEND;VALUE=DATE:20280418
DTSTAMP:20260421T142107
CREATED:20241127T143134Z
LAST-MODIFIED:20251110T210954Z
UID:10000888-1839542400-1839628799@www.kaukauna.gov
SUMMARY:Recycle Pick-Up
DESCRIPTION:
URL:https://www.kaukauna.gov/event/recycle-pick-up/2028-04-17/
CATEGORIES:For Residents
ATTACH;FMTTYPE=image/png:https://www.kaukauna.gov/wp-content/uploads/2024/11/Recycle-photo-for-website.png
END:VEVENT
BEGIN:VEVENT
DTSTART;TZID=America/Chicago:20280417T180000
DTEND;TZID=America/Chicago:20280417T200000
DTSTAMP:20260421T142107
CREATED:20241203T151815Z
LAST-MODIFIED:20251110T184701Z
UID:10001287-1839607200-1839614400@www.kaukauna.gov
SUMMARY:Committee Meetings
DESCRIPTION:
URL:https://www.kaukauna.gov/event/committee-meetings-2/2028-04-17/
CATEGORIES:For Residents
ATTACH;FMTTYPE=image/png:https://www.kaukauna.gov/wp-content/uploads/2024/11/Municipal-Building-Photo-for-Website.png
END:VEVENT
BEGIN:VEVENT
DTSTART;VALUE=DATE:20280418
DTEND;VALUE=DATE:20280419
DTSTAMP:20260421T142107
CREATED:20241127T143134Z
LAST-MODIFIED:20251110T210954Z
UID:10000889-1839628800-1839715199@www.kaukauna.gov
SUMMARY:Recycle Pick-Up
DESCRIPTION:
URL:https://www.kaukauna.gov/event/recycle-pick-up/2028-04-18/
CATEGORIES:For Residents
ATTACH;FMTTYPE=image/png:https://www.kaukauna.gov/wp-content/uploads/2024/11/Recycle-photo-for-website.png
END:VEVENT
BEGIN:VEVENT
DTSTART;TZID=America/Chicago:20280418T190000
DTEND;TZID=America/Chicago:20280418T210000
DTSTAMP:20260421T142107
CREATED:20241127T150231Z
LAST-MODIFIED:20251110T184806Z
UID:10001156-1839697200-1839704400@www.kaukauna.gov
SUMMARY:Common Council Meeting
DESCRIPTION:
URL:https://www.kaukauna.gov/event/common-council-meeting-2/2028-04-18/
CATEGORIES:For Residents
ATTACH;FMTTYPE=image/png:https://www.kaukauna.gov/wp-content/uploads/2024/11/Municipal-Building-Photo-for-Website.png
END:VEVENT
BEGIN:VEVENT
DTSTART;VALUE=DATE:20280419
DTEND;VALUE=DATE:20280420
DTSTAMP:20260421T142107
CREATED:20241127T143134Z
LAST-MODIFIED:20251110T210954Z
UID:10000890-1839715200-1839801599@www.kaukauna.gov
SUMMARY:Recycle Pick-Up
DESCRIPTION:
URL:https://www.kaukauna.gov/event/recycle-pick-up/2028-04-19/
CATEGORIES:For Residents
ATTACH;FMTTYPE=image/png:https://www.kaukauna.gov/wp-content/uploads/2024/11/Recycle-photo-for-website.png
END:VEVENT
BEGIN:VEVENT
DTSTART;VALUE=DATE:20280420
DTEND;VALUE=DATE:20280421
DTSTAMP:20260421T142107
CREATED:20241127T143134Z
LAST-MODIFIED:20251110T210954Z
UID:10000891-1839801600-1839887999@www.kaukauna.gov
SUMMARY:Recycle Pick-Up
DESCRIPTION:
URL:https://www.kaukauna.gov/event/recycle-pick-up/2028-04-20/
CATEGORIES:For Residents
ATTACH;FMTTYPE=image/png:https://www.kaukauna.gov/wp-content/uploads/2024/11/Recycle-photo-for-website.png
END:VEVENT
BEGIN:VEVENT
DTSTART;VALUE=DATE:20280501
DTEND;VALUE=DATE:20280502
DTSTAMP:20260421T142107
CREATED:20241127T143134Z
LAST-MODIFIED:20251110T210954Z
UID:10000892-1840752000-1840838399@www.kaukauna.gov
SUMMARY:Recycle Pick-Up
DESCRIPTION:
URL:https://www.kaukauna.gov/event/recycle-pick-up/2028-05-01/
CATEGORIES:For Residents
ATTACH;FMTTYPE=image/png:https://www.kaukauna.gov/wp-content/uploads/2024/11/Recycle-photo-for-website.png
END:VEVENT
BEGIN:VEVENT
DTSTART;TZID=America/Chicago:20280501T180000
DTEND;TZID=America/Chicago:20280501T200000
DTSTAMP:20260421T142107
CREATED:20251110T160623Z
LAST-MODIFIED:20251110T160624Z
UID:10001349-1840816800-1840824000@www.kaukauna.gov
SUMMARY:Committee Meetings
DESCRIPTION:
URL:https://www.kaukauna.gov/event/committee-meetings-3/2028-05-01/
CATEGORIES:For Residents
ATTACH;FMTTYPE=image/png:https://www.kaukauna.gov/wp-content/uploads/2024/11/Municipal-Building-Photo-for-Website.png
END:VEVENT
BEGIN:VEVENT
DTSTART;VALUE=DATE:20280502
DTEND;VALUE=DATE:20280503
DTSTAMP:20260421T142107
CREATED:20241127T143134Z
LAST-MODIFIED:20251110T210954Z
UID:10000893-1840838400-1840924799@www.kaukauna.gov
SUMMARY:Recycle Pick-Up
DESCRIPTION:
URL:https://www.kaukauna.gov/event/recycle-pick-up/2028-05-02/
CATEGORIES:For Residents
ATTACH;FMTTYPE=image/png:https://www.kaukauna.gov/wp-content/uploads/2024/11/Recycle-photo-for-website.png
END:VEVENT
BEGIN:VEVENT
DTSTART;TZID=America/Chicago:20280502T190000
DTEND;TZID=America/Chicago:20280502T210000
DTSTAMP:20260421T142107
CREATED:20250630T113428Z
LAST-MODIFIED:20251110T161554Z
UID:10001098-1840906800-1840914000@www.kaukauna.gov
SUMMARY:Common Council Meeting
DESCRIPTION:
URL:https://www.kaukauna.gov/event/common-council-meeting-3/2028-05-02/
CATEGORIES:For Residents
ATTACH;FMTTYPE=image/png:https://www.kaukauna.gov/wp-content/uploads/2024/11/Municipal-Building-Photo-for-Website.png
END:VEVENT
BEGIN:VEVENT
DTSTART;VALUE=DATE:20280503
DTEND;VALUE=DATE:20280504
DTSTAMP:20260421T142107
CREATED:20241127T143134Z
LAST-MODIFIED:20251110T210954Z
UID:10000894-1840924800-1841011199@www.kaukauna.gov
SUMMARY:Recycle Pick-Up
DESCRIPTION:
URL:https://www.kaukauna.gov/event/recycle-pick-up/2028-05-03/
CATEGORIES:For Residents
ATTACH;FMTTYPE=image/png:https://www.kaukauna.gov/wp-content/uploads/2024/11/Recycle-photo-for-website.png
END:VEVENT
BEGIN:VEVENT
DTSTART;VALUE=DATE:20280504
DTEND;VALUE=DATE:20280505
DTSTAMP:20260421T142107
CREATED:20241127T143134Z
LAST-MODIFIED:20251110T210954Z
UID:10000895-1841011200-1841097599@www.kaukauna.gov
SUMMARY:Recycle Pick-Up
DESCRIPTION:
URL:https://www.kaukauna.gov/event/recycle-pick-up/2028-05-04/
CATEGORIES:For Residents
ATTACH;FMTTYPE=image/png:https://www.kaukauna.gov/wp-content/uploads/2024/11/Recycle-photo-for-website.png
END:VEVENT
BEGIN:VEVENT
DTSTART;VALUE=DATE:20280515
DTEND;VALUE=DATE:20280516
DTSTAMP:20260421T142107
CREATED:20241127T143134Z
LAST-MODIFIED:20251110T210954Z
UID:10000896-1841961600-1842047999@www.kaukauna.gov
SUMMARY:Recycle Pick-Up
DESCRIPTION:
URL:https://www.kaukauna.gov/event/recycle-pick-up/2028-05-15/
CATEGORIES:For Residents
ATTACH;FMTTYPE=image/png:https://www.kaukauna.gov/wp-content/uploads/2024/11/Recycle-photo-for-website.png
END:VEVENT
BEGIN:VEVENT
DTSTART;TZID=America/Chicago:20280515T180000
DTEND;TZID=America/Chicago:20280515T200000
DTSTAMP:20260421T142107
CREATED:20241203T151815Z
LAST-MODIFIED:20251110T184701Z
UID:10001288-1842026400-1842033600@www.kaukauna.gov
SUMMARY:Committee Meetings
DESCRIPTION:
URL:https://www.kaukauna.gov/event/committee-meetings-2/2028-05-15/
CATEGORIES:For Residents
ATTACH;FMTTYPE=image/png:https://www.kaukauna.gov/wp-content/uploads/2024/11/Municipal-Building-Photo-for-Website.png
END:VEVENT
BEGIN:VEVENT
DTSTART;VALUE=DATE:20280516
DTEND;VALUE=DATE:20280517
DTSTAMP:20260421T142107
CREATED:20241127T143134Z
LAST-MODIFIED:20251110T210954Z
UID:10000897-1842048000-1842134399@www.kaukauna.gov
SUMMARY:Recycle Pick-Up
DESCRIPTION:
URL:https://www.kaukauna.gov/event/recycle-pick-up/2028-05-16/
CATEGORIES:For Residents
ATTACH;FMTTYPE=image/png:https://www.kaukauna.gov/wp-content/uploads/2024/11/Recycle-photo-for-website.png
END:VEVENT
BEGIN:VEVENT
DTSTART;TZID=America/Chicago:20280516T190000
DTEND;TZID=America/Chicago:20280516T210000
DTSTAMP:20260421T142107
CREATED:20241127T150231Z
LAST-MODIFIED:20251110T184806Z
UID:10001157-1842116400-1842123600@www.kaukauna.gov
SUMMARY:Common Council Meeting
DESCRIPTION:
URL:https://www.kaukauna.gov/event/common-council-meeting-2/2028-05-16/
CATEGORIES:For Residents
ATTACH;FMTTYPE=image/png:https://www.kaukauna.gov/wp-content/uploads/2024/11/Municipal-Building-Photo-for-Website.png
END:VEVENT
BEGIN:VEVENT
DTSTART;VALUE=DATE:20280517
DTEND;VALUE=DATE:20280518
DTSTAMP:20260421T142107
CREATED:20241127T143134Z
LAST-MODIFIED:20251110T210954Z
UID:10000898-1842134400-1842220799@www.kaukauna.gov
SUMMARY:Recycle Pick-Up
DESCRIPTION:
URL:https://www.kaukauna.gov/event/recycle-pick-up/2028-05-17/
CATEGORIES:For Residents
ATTACH;FMTTYPE=image/png:https://www.kaukauna.gov/wp-content/uploads/2024/11/Recycle-photo-for-website.png
END:VEVENT
BEGIN:VEVENT
DTSTART;VALUE=DATE:20280518
DTEND;VALUE=DATE:20280519
DTSTAMP:20260421T142107
CREATED:20241127T143134Z
LAST-MODIFIED:20251110T210954Z
UID:10000899-1842220800-1842307199@www.kaukauna.gov
SUMMARY:Recycle Pick-Up
DESCRIPTION:
URL:https://www.kaukauna.gov/event/recycle-pick-up/2028-05-18/
CATEGORIES:For Residents
ATTACH;FMTTYPE=image/png:https://www.kaukauna.gov/wp-content/uploads/2024/11/Recycle-photo-for-website.png
END:VEVENT
BEGIN:VEVENT
DTSTART;VALUE=DATE:20280529
DTEND;VALUE=DATE:20280530
DTSTAMP:20260421T142107
CREATED:20241127T143134Z
LAST-MODIFIED:20251110T210954Z
UID:10000900-1843171200-1843257599@www.kaukauna.gov
SUMMARY:Recycle Pick-Up
DESCRIPTION:
URL:https://www.kaukauna.gov/event/recycle-pick-up/2028-05-29/
CATEGORIES:For Residents
ATTACH;FMTTYPE=image/png:https://www.kaukauna.gov/wp-content/uploads/2024/11/Recycle-photo-for-website.png
END:VEVENT
BEGIN:VEVENT
DTSTART;VALUE=DATE:20280530
DTEND;VALUE=DATE:20280531
DTSTAMP:20260421T142107
CREATED:20241127T143134Z
LAST-MODIFIED:20251110T210954Z
UID:10000901-1843257600-1843343999@www.kaukauna.gov
SUMMARY:Recycle Pick-Up
DESCRIPTION:
URL:https://www.kaukauna.gov/event/recycle-pick-up/2028-05-30/
CATEGORIES:For Residents
ATTACH;FMTTYPE=image/png:https://www.kaukauna.gov/wp-content/uploads/2024/11/Recycle-photo-for-website.png
END:VEVENT
BEGIN:VEVENT
DTSTART;VALUE=DATE:20280531
DTEND;VALUE=DATE:20280601
DTSTAMP:20260421T142107
CREATED:20241127T143134Z
LAST-MODIFIED:20251110T210954Z
UID:10000902-1843344000-1843430399@www.kaukauna.gov
SUMMARY:Recycle Pick-Up
DESCRIPTION:
URL:https://www.kaukauna.gov/event/recycle-pick-up/2028-05-31/
CATEGORIES:For Residents
ATTACH;FMTTYPE=image/png:https://www.kaukauna.gov/wp-content/uploads/2024/11/Recycle-photo-for-website.png
END:VEVENT
BEGIN:VEVENT
DTSTART;VALUE=DATE:20280601
DTEND;VALUE=DATE:20280602
DTSTAMP:20260421T142107
CREATED:20241127T143134Z
LAST-MODIFIED:20251110T210954Z
UID:10000903-1843430400-1843516799@www.kaukauna.gov
SUMMARY:Recycle Pick-Up
DESCRIPTION:
URL:https://www.kaukauna.gov/event/recycle-pick-up/2028-06-01/
CATEGORIES:For Residents
ATTACH;FMTTYPE=image/png:https://www.kaukauna.gov/wp-content/uploads/2024/11/Recycle-photo-for-website.png
END:VEVENT
BEGIN:VEVENT
DTSTART;TZID=America/Chicago:20280605T180000
DTEND;TZID=America/Chicago:20280605T200000
DTSTAMP:20260421T142107
CREATED:20251110T160623Z
LAST-MODIFIED:20251110T160624Z
UID:10001350-1843840800-1843848000@www.kaukauna.gov
SUMMARY:Committee Meetings
DESCRIPTION:
URL:https://www.kaukauna.gov/event/committee-meetings-3/2028-06-05/
CATEGORIES:For Residents
ATTACH;FMTTYPE=image/png:https://www.kaukauna.gov/wp-content/uploads/2024/11/Municipal-Building-Photo-for-Website.png
END:VEVENT
BEGIN:VEVENT
DTSTART;TZID=America/Chicago:20280606T190000
DTEND;TZID=America/Chicago:20280606T210000
DTSTAMP:20260421T142107
CREATED:20250630T113428Z
LAST-MODIFIED:20251110T161554Z
UID:10001099-1843930800-1843938000@www.kaukauna.gov
SUMMARY:Common Council Meeting
DESCRIPTION:
URL:https://www.kaukauna.gov/event/common-council-meeting-3/2028-06-06/
CATEGORIES:For Residents
ATTACH;FMTTYPE=image/png:https://www.kaukauna.gov/wp-content/uploads/2024/11/Municipal-Building-Photo-for-Website.png
END:VEVENT
BEGIN:VEVENT
DTSTART;VALUE=DATE:20280612
DTEND;VALUE=DATE:20280613
DTSTAMP:20260421T142107
CREATED:20241127T143134Z
LAST-MODIFIED:20251110T210954Z
UID:10000904-1844380800-1844467199@www.kaukauna.gov
SUMMARY:Recycle Pick-Up
DESCRIPTION:
URL:https://www.kaukauna.gov/event/recycle-pick-up/2028-06-12/
CATEGORIES:For Residents
ATTACH;FMTTYPE=image/png:https://www.kaukauna.gov/wp-content/uploads/2024/11/Recycle-photo-for-website.png
END:VEVENT
BEGIN:VEVENT
DTSTART;VALUE=DATE:20280613
DTEND;VALUE=DATE:20280614
DTSTAMP:20260421T142107
CREATED:20241127T143134Z
LAST-MODIFIED:20251110T210954Z
UID:10000905-1844467200-1844553599@www.kaukauna.gov
SUMMARY:Recycle Pick-Up
DESCRIPTION:
URL:https://www.kaukauna.gov/event/recycle-pick-up/2028-06-13/
CATEGORIES:For Residents
ATTACH;FMTTYPE=image/png:https://www.kaukauna.gov/wp-content/uploads/2024/11/Recycle-photo-for-website.png
END:VEVENT
BEGIN:VEVENT
DTSTART;VALUE=DATE:20280614
DTEND;VALUE=DATE:20280615
DTSTAMP:20260421T142107
CREATED:20241127T143134Z
LAST-MODIFIED:20251110T210954Z
UID:10000906-1844553600-1844639999@www.kaukauna.gov
SUMMARY:Recycle Pick-Up
DESCRIPTION:
URL:https://www.kaukauna.gov/event/recycle-pick-up/2028-06-14/
CATEGORIES:For Residents
ATTACH;FMTTYPE=image/png:https://www.kaukauna.gov/wp-content/uploads/2024/11/Recycle-photo-for-website.png
END:VEVENT
BEGIN:VEVENT
DTSTART;VALUE=DATE:20280615
DTEND;VALUE=DATE:20280616
DTSTAMP:20260421T142107
CREATED:20241127T143134Z
LAST-MODIFIED:20251110T210954Z
UID:10000907-1844640000-1844726399@www.kaukauna.gov
SUMMARY:Recycle Pick-Up
DESCRIPTION:
URL:https://www.kaukauna.gov/event/recycle-pick-up/2028-06-15/
CATEGORIES:For Residents
ATTACH;FMTTYPE=image/png:https://www.kaukauna.gov/wp-content/uploads/2024/11/Recycle-photo-for-website.png
END:VEVENT
BEGIN:VEVENT
DTSTART;TZID=America/Chicago:20280619T180000
DTEND;TZID=America/Chicago:20280619T200000
DTSTAMP:20260421T142107
CREATED:20241203T151815Z
LAST-MODIFIED:20251110T184701Z
UID:10001289-1845050400-1845057600@www.kaukauna.gov
SUMMARY:Committee Meetings
DESCRIPTION:
URL:https://www.kaukauna.gov/event/committee-meetings-2/2028-06-19/
CATEGORIES:For Residents
ATTACH;FMTTYPE=image/png:https://www.kaukauna.gov/wp-content/uploads/2024/11/Municipal-Building-Photo-for-Website.png
END:VEVENT
END:VCALENDAR