BEGIN:VCALENDAR
VERSION:2.0
PRODID:-//City Of Kaukauna - ECPv6.15.20//NONSGML v1.0//EN
CALSCALE:GREGORIAN
METHOD:PUBLISH
X-WR-CALNAME:City Of Kaukauna
X-ORIGINAL-URL:https://www.kaukauna.gov
X-WR-CALDESC:Events for City Of Kaukauna
REFRESH-INTERVAL;VALUE=DURATION:PT1H
X-Robots-Tag:noindex
X-PUBLISHED-TTL:PT1H
BEGIN:VTIMEZONE
TZID:America/Chicago
BEGIN:DAYLIGHT
TZOFFSETFROM:-0600
TZOFFSETTO:-0500
TZNAME:CDT
DTSTART:20260308T080000
END:DAYLIGHT
BEGIN:STANDARD
TZOFFSETFROM:-0500
TZOFFSETTO:-0600
TZNAME:CST
DTSTART:20261101T070000
END:STANDARD
BEGIN:DAYLIGHT
TZOFFSETFROM:-0600
TZOFFSETTO:-0500
TZNAME:CDT
DTSTART:20270314T080000
END:DAYLIGHT
BEGIN:STANDARD
TZOFFSETFROM:-0500
TZOFFSETTO:-0600
TZNAME:CST
DTSTART:20271107T070000
END:STANDARD
BEGIN:DAYLIGHT
TZOFFSETFROM:-0600
TZOFFSETTO:-0500
TZNAME:CDT
DTSTART:20280312T080000
END:DAYLIGHT
BEGIN:STANDARD
TZOFFSETFROM:-0500
TZOFFSETTO:-0600
TZNAME:CST
DTSTART:20281105T070000
END:STANDARD
BEGIN:DAYLIGHT
TZOFFSETFROM:-0600
TZOFFSETTO:-0500
TZNAME:CDT
DTSTART:20290311T080000
END:DAYLIGHT
BEGIN:STANDARD
TZOFFSETFROM:-0500
TZOFFSETTO:-0600
TZNAME:CST
DTSTART:20291104T070000
END:STANDARD
END:VTIMEZONE
BEGIN:VEVENT
DTSTART;VALUE=DATE:20271216
DTEND;VALUE=DATE:20271217
DTSTAMP:20260421T073714
CREATED:20241127T143134Z
LAST-MODIFIED:20251110T210954Z
UID:10000855-1828915200-1829001599@www.kaukauna.gov
SUMMARY:Recycle Pick-Up
DESCRIPTION:
URL:https://www.kaukauna.gov/event/recycle-pick-up/2027-12-16/
CATEGORIES:For Residents
ATTACH;FMTTYPE=image/png:https://www.kaukauna.gov/wp-content/uploads/2024/11/Recycle-photo-for-website.png
END:VEVENT
BEGIN:VEVENT
DTSTART;TZID=America/Chicago:20271220T180000
DTEND;TZID=America/Chicago:20271220T200000
DTSTAMP:20260421T073714
CREATED:20241203T151815Z
LAST-MODIFIED:20251110T184701Z
UID:10001283-1829325600-1829332800@www.kaukauna.gov
SUMMARY:Committee Meetings
DESCRIPTION:
URL:https://www.kaukauna.gov/event/committee-meetings-2/2027-12-20/
CATEGORIES:For Residents
ATTACH;FMTTYPE=image/png:https://www.kaukauna.gov/wp-content/uploads/2024/11/Municipal-Building-Photo-for-Website.png
END:VEVENT
BEGIN:VEVENT
DTSTART;TZID=America/Chicago:20271221T190000
DTEND;TZID=America/Chicago:20271221T210000
DTSTAMP:20260421T073714
CREATED:20241127T150231Z
LAST-MODIFIED:20251110T184806Z
UID:10001152-1829415600-1829422800@www.kaukauna.gov
SUMMARY:Common Council Meeting
DESCRIPTION:
URL:https://www.kaukauna.gov/event/common-council-meeting-2/2027-12-21/
CATEGORIES:For Residents
ATTACH;FMTTYPE=image/png:https://www.kaukauna.gov/wp-content/uploads/2024/11/Municipal-Building-Photo-for-Website.png
END:VEVENT
BEGIN:VEVENT
DTSTART;VALUE=DATE:20271227
DTEND;VALUE=DATE:20271228
DTSTAMP:20260421T073714
CREATED:20241127T143134Z
LAST-MODIFIED:20251110T210954Z
UID:10000856-1829865600-1829951999@www.kaukauna.gov
SUMMARY:Recycle Pick-Up
DESCRIPTION:
URL:https://www.kaukauna.gov/event/recycle-pick-up/2027-12-27/
CATEGORIES:For Residents
ATTACH;FMTTYPE=image/png:https://www.kaukauna.gov/wp-content/uploads/2024/11/Recycle-photo-for-website.png
END:VEVENT
BEGIN:VEVENT
DTSTART;VALUE=DATE:20271228
DTEND;VALUE=DATE:20271229
DTSTAMP:20260421T073714
CREATED:20241127T143134Z
LAST-MODIFIED:20251110T210954Z
UID:10000857-1829952000-1830038399@www.kaukauna.gov
SUMMARY:Recycle Pick-Up
DESCRIPTION:
URL:https://www.kaukauna.gov/event/recycle-pick-up/2027-12-28/
CATEGORIES:For Residents
ATTACH;FMTTYPE=image/png:https://www.kaukauna.gov/wp-content/uploads/2024/11/Recycle-photo-for-website.png
END:VEVENT
BEGIN:VEVENT
DTSTART;VALUE=DATE:20271229
DTEND;VALUE=DATE:20271230
DTSTAMP:20260421T073714
CREATED:20241127T143134Z
LAST-MODIFIED:20251110T210954Z
UID:10000858-1830038400-1830124799@www.kaukauna.gov
SUMMARY:Recycle Pick-Up
DESCRIPTION:
URL:https://www.kaukauna.gov/event/recycle-pick-up/2027-12-29/
CATEGORIES:For Residents
ATTACH;FMTTYPE=image/png:https://www.kaukauna.gov/wp-content/uploads/2024/11/Recycle-photo-for-website.png
END:VEVENT
BEGIN:VEVENT
DTSTART;VALUE=DATE:20271230
DTEND;VALUE=DATE:20271231
DTSTAMP:20260421T073714
CREATED:20241127T143134Z
LAST-MODIFIED:20251110T210954Z
UID:10000859-1830124800-1830211199@www.kaukauna.gov
SUMMARY:Recycle Pick-Up
DESCRIPTION:
URL:https://www.kaukauna.gov/event/recycle-pick-up/2027-12-30/
CATEGORIES:For Residents
ATTACH;FMTTYPE=image/png:https://www.kaukauna.gov/wp-content/uploads/2024/11/Recycle-photo-for-website.png
END:VEVENT
BEGIN:VEVENT
DTSTART;TZID=America/Chicago:20280103T180000
DTEND;TZID=America/Chicago:20280103T200000
DTSTAMP:20260421T073714
CREATED:20251110T160623Z
LAST-MODIFIED:20251110T160624Z
UID:10001345-1830535200-1830542400@www.kaukauna.gov
SUMMARY:Committee Meetings
DESCRIPTION:
URL:https://www.kaukauna.gov/event/committee-meetings-3/2028-01-03/
CATEGORIES:For Residents
ATTACH;FMTTYPE=image/png:https://www.kaukauna.gov/wp-content/uploads/2024/11/Municipal-Building-Photo-for-Website.png
END:VEVENT
BEGIN:VEVENT
DTSTART;TZID=America/Chicago:20280104T190000
DTEND;TZID=America/Chicago:20280104T210000
DTSTAMP:20260421T073714
CREATED:20250630T113428Z
LAST-MODIFIED:20251110T161554Z
UID:10001094-1830625200-1830632400@www.kaukauna.gov
SUMMARY:Common Council Meeting
DESCRIPTION:
URL:https://www.kaukauna.gov/event/common-council-meeting-3/2028-01-04/
CATEGORIES:For Residents
ATTACH;FMTTYPE=image/png:https://www.kaukauna.gov/wp-content/uploads/2024/11/Municipal-Building-Photo-for-Website.png
END:VEVENT
BEGIN:VEVENT
DTSTART;VALUE=DATE:20280110
DTEND;VALUE=DATE:20280111
DTSTAMP:20260421T073714
CREATED:20241127T143134Z
LAST-MODIFIED:20251110T210954Z
UID:10000860-1831075200-1831161599@www.kaukauna.gov
SUMMARY:Recycle Pick-Up
DESCRIPTION:
URL:https://www.kaukauna.gov/event/recycle-pick-up/2028-01-10/
CATEGORIES:For Residents
ATTACH;FMTTYPE=image/png:https://www.kaukauna.gov/wp-content/uploads/2024/11/Recycle-photo-for-website.png
END:VEVENT
BEGIN:VEVENT
DTSTART;VALUE=DATE:20280111
DTEND;VALUE=DATE:20280112
DTSTAMP:20260421T073714
CREATED:20241127T143134Z
LAST-MODIFIED:20251110T210954Z
UID:10000861-1831161600-1831247999@www.kaukauna.gov
SUMMARY:Recycle Pick-Up
DESCRIPTION:
URL:https://www.kaukauna.gov/event/recycle-pick-up/2028-01-11/
CATEGORIES:For Residents
ATTACH;FMTTYPE=image/png:https://www.kaukauna.gov/wp-content/uploads/2024/11/Recycle-photo-for-website.png
END:VEVENT
BEGIN:VEVENT
DTSTART;VALUE=DATE:20280112
DTEND;VALUE=DATE:20280113
DTSTAMP:20260421T073714
CREATED:20241127T143134Z
LAST-MODIFIED:20251110T210954Z
UID:10000862-1831248000-1831334399@www.kaukauna.gov
SUMMARY:Recycle Pick-Up
DESCRIPTION:
URL:https://www.kaukauna.gov/event/recycle-pick-up/2028-01-12/
CATEGORIES:For Residents
ATTACH;FMTTYPE=image/png:https://www.kaukauna.gov/wp-content/uploads/2024/11/Recycle-photo-for-website.png
END:VEVENT
BEGIN:VEVENT
DTSTART;VALUE=DATE:20280113
DTEND;VALUE=DATE:20280114
DTSTAMP:20260421T073714
CREATED:20241127T143134Z
LAST-MODIFIED:20251110T210954Z
UID:10000863-1831334400-1831420799@www.kaukauna.gov
SUMMARY:Recycle Pick-Up
DESCRIPTION:
URL:https://www.kaukauna.gov/event/recycle-pick-up/2028-01-13/
CATEGORIES:For Residents
ATTACH;FMTTYPE=image/png:https://www.kaukauna.gov/wp-content/uploads/2024/11/Recycle-photo-for-website.png
END:VEVENT
BEGIN:VEVENT
DTSTART;TZID=America/Chicago:20280117T180000
DTEND;TZID=America/Chicago:20280117T200000
DTSTAMP:20260421T073714
CREATED:20241203T151815Z
LAST-MODIFIED:20251110T184701Z
UID:10001284-1831744800-1831752000@www.kaukauna.gov
SUMMARY:Committee Meetings
DESCRIPTION:
URL:https://www.kaukauna.gov/event/committee-meetings-2/2028-01-17/
CATEGORIES:For Residents
ATTACH;FMTTYPE=image/png:https://www.kaukauna.gov/wp-content/uploads/2024/11/Municipal-Building-Photo-for-Website.png
END:VEVENT
BEGIN:VEVENT
DTSTART;TZID=America/Chicago:20280118T190000
DTEND;TZID=America/Chicago:20280118T210000
DTSTAMP:20260421T073714
CREATED:20241127T150231Z
LAST-MODIFIED:20251110T184806Z
UID:10001153-1831834800-1831842000@www.kaukauna.gov
SUMMARY:Common Council Meeting
DESCRIPTION:
URL:https://www.kaukauna.gov/event/common-council-meeting-2/2028-01-18/
CATEGORIES:For Residents
ATTACH;FMTTYPE=image/png:https://www.kaukauna.gov/wp-content/uploads/2024/11/Municipal-Building-Photo-for-Website.png
END:VEVENT
BEGIN:VEVENT
DTSTART;VALUE=DATE:20280124
DTEND;VALUE=DATE:20280125
DTSTAMP:20260421T073714
CREATED:20241127T143134Z
LAST-MODIFIED:20251110T210954Z
UID:10000864-1832284800-1832371199@www.kaukauna.gov
SUMMARY:Recycle Pick-Up
DESCRIPTION:
URL:https://www.kaukauna.gov/event/recycle-pick-up/2028-01-24/
CATEGORIES:For Residents
ATTACH;FMTTYPE=image/png:https://www.kaukauna.gov/wp-content/uploads/2024/11/Recycle-photo-for-website.png
END:VEVENT
BEGIN:VEVENT
DTSTART;VALUE=DATE:20280125
DTEND;VALUE=DATE:20280126
DTSTAMP:20260421T073714
CREATED:20241127T143134Z
LAST-MODIFIED:20251110T210954Z
UID:10000865-1832371200-1832457599@www.kaukauna.gov
SUMMARY:Recycle Pick-Up
DESCRIPTION:
URL:https://www.kaukauna.gov/event/recycle-pick-up/2028-01-25/
CATEGORIES:For Residents
ATTACH;FMTTYPE=image/png:https://www.kaukauna.gov/wp-content/uploads/2024/11/Recycle-photo-for-website.png
END:VEVENT
BEGIN:VEVENT
DTSTART;VALUE=DATE:20280126
DTEND;VALUE=DATE:20280127
DTSTAMP:20260421T073714
CREATED:20241127T143134Z
LAST-MODIFIED:20251110T210954Z
UID:10000866-1832457600-1832543999@www.kaukauna.gov
SUMMARY:Recycle Pick-Up
DESCRIPTION:
URL:https://www.kaukauna.gov/event/recycle-pick-up/2028-01-26/
CATEGORIES:For Residents
ATTACH;FMTTYPE=image/png:https://www.kaukauna.gov/wp-content/uploads/2024/11/Recycle-photo-for-website.png
END:VEVENT
BEGIN:VEVENT
DTSTART;VALUE=DATE:20280127
DTEND;VALUE=DATE:20280128
DTSTAMP:20260421T073714
CREATED:20241127T143134Z
LAST-MODIFIED:20251110T210954Z
UID:10000867-1832544000-1832630399@www.kaukauna.gov
SUMMARY:Recycle Pick-Up
DESCRIPTION:
URL:https://www.kaukauna.gov/event/recycle-pick-up/2028-01-27/
CATEGORIES:For Residents
ATTACH;FMTTYPE=image/png:https://www.kaukauna.gov/wp-content/uploads/2024/11/Recycle-photo-for-website.png
END:VEVENT
BEGIN:VEVENT
DTSTART;TZID=America/Chicago:20280201T190000
DTEND;TZID=America/Chicago:20280201T210000
DTSTAMP:20260421T073714
CREATED:20250630T113428Z
LAST-MODIFIED:20251110T161554Z
UID:10001095-1833044400-1833051600@www.kaukauna.gov
SUMMARY:Common Council Meeting
DESCRIPTION:
URL:https://www.kaukauna.gov/event/common-council-meeting-3/2028-02-01/
CATEGORIES:For Residents
ATTACH;FMTTYPE=image/png:https://www.kaukauna.gov/wp-content/uploads/2024/11/Municipal-Building-Photo-for-Website.png
END:VEVENT
BEGIN:VEVENT
DTSTART;VALUE=DATE:20280207
DTEND;VALUE=DATE:20280208
DTSTAMP:20260421T073714
CREATED:20241127T143134Z
LAST-MODIFIED:20251110T210954Z
UID:10000868-1833494400-1833580799@www.kaukauna.gov
SUMMARY:Recycle Pick-Up
DESCRIPTION:
URL:https://www.kaukauna.gov/event/recycle-pick-up/2028-02-07/
CATEGORIES:For Residents
ATTACH;FMTTYPE=image/png:https://www.kaukauna.gov/wp-content/uploads/2024/11/Recycle-photo-for-website.png
END:VEVENT
BEGIN:VEVENT
DTSTART;TZID=America/Chicago:20280207T180000
DTEND;TZID=America/Chicago:20280207T200000
DTSTAMP:20260421T073714
CREATED:20251110T160623Z
LAST-MODIFIED:20251110T160624Z
UID:10001346-1833559200-1833566400@www.kaukauna.gov
SUMMARY:Committee Meetings
DESCRIPTION:
URL:https://www.kaukauna.gov/event/committee-meetings-3/2028-02-07/
CATEGORIES:For Residents
ATTACH;FMTTYPE=image/png:https://www.kaukauna.gov/wp-content/uploads/2024/11/Municipal-Building-Photo-for-Website.png
END:VEVENT
BEGIN:VEVENT
DTSTART;VALUE=DATE:20280208
DTEND;VALUE=DATE:20280209
DTSTAMP:20260421T073714
CREATED:20241127T143134Z
LAST-MODIFIED:20251110T210954Z
UID:10000869-1833580800-1833667199@www.kaukauna.gov
SUMMARY:Recycle Pick-Up
DESCRIPTION:
URL:https://www.kaukauna.gov/event/recycle-pick-up/2028-02-08/
CATEGORIES:For Residents
ATTACH;FMTTYPE=image/png:https://www.kaukauna.gov/wp-content/uploads/2024/11/Recycle-photo-for-website.png
END:VEVENT
BEGIN:VEVENT
DTSTART;VALUE=DATE:20280209
DTEND;VALUE=DATE:20280210
DTSTAMP:20260421T073714
CREATED:20241127T143134Z
LAST-MODIFIED:20251110T210954Z
UID:10000870-1833667200-1833753599@www.kaukauna.gov
SUMMARY:Recycle Pick-Up
DESCRIPTION:
URL:https://www.kaukauna.gov/event/recycle-pick-up/2028-02-09/
CATEGORIES:For Residents
ATTACH;FMTTYPE=image/png:https://www.kaukauna.gov/wp-content/uploads/2024/11/Recycle-photo-for-website.png
END:VEVENT
BEGIN:VEVENT
DTSTART;VALUE=DATE:20280210
DTEND;VALUE=DATE:20280211
DTSTAMP:20260421T073714
CREATED:20241127T143134Z
LAST-MODIFIED:20251110T210954Z
UID:10000871-1833753600-1833839999@www.kaukauna.gov
SUMMARY:Recycle Pick-Up
DESCRIPTION:
URL:https://www.kaukauna.gov/event/recycle-pick-up/2028-02-10/
CATEGORIES:For Residents
ATTACH;FMTTYPE=image/png:https://www.kaukauna.gov/wp-content/uploads/2024/11/Recycle-photo-for-website.png
END:VEVENT
BEGIN:VEVENT
DTSTART;TZID=America/Chicago:20280215T190000
DTEND;TZID=America/Chicago:20280215T210000
DTSTAMP:20260421T073714
CREATED:20241127T150231Z
LAST-MODIFIED:20251110T184806Z
UID:10001154-1834254000-1834261200@www.kaukauna.gov
SUMMARY:Common Council Meeting
DESCRIPTION:
URL:https://www.kaukauna.gov/event/common-council-meeting-2/2028-02-15/
CATEGORIES:For Residents
ATTACH;FMTTYPE=image/png:https://www.kaukauna.gov/wp-content/uploads/2024/11/Municipal-Building-Photo-for-Website.png
END:VEVENT
BEGIN:VEVENT
DTSTART;VALUE=DATE:20280221
DTEND;VALUE=DATE:20280222
DTSTAMP:20260421T073714
CREATED:20241127T143134Z
LAST-MODIFIED:20251110T210954Z
UID:10000872-1834704000-1834790399@www.kaukauna.gov
SUMMARY:Recycle Pick-Up
DESCRIPTION:
URL:https://www.kaukauna.gov/event/recycle-pick-up/2028-02-21/
CATEGORIES:For Residents
ATTACH;FMTTYPE=image/png:https://www.kaukauna.gov/wp-content/uploads/2024/11/Recycle-photo-for-website.png
END:VEVENT
BEGIN:VEVENT
DTSTART;TZID=America/Chicago:20280221T180000
DTEND;TZID=America/Chicago:20280221T200000
DTSTAMP:20260421T073714
CREATED:20241203T151815Z
LAST-MODIFIED:20251110T184701Z
UID:10001285-1834768800-1834776000@www.kaukauna.gov
SUMMARY:Committee Meetings
DESCRIPTION:
URL:https://www.kaukauna.gov/event/committee-meetings-2/2028-02-21/
CATEGORIES:For Residents
ATTACH;FMTTYPE=image/png:https://www.kaukauna.gov/wp-content/uploads/2024/11/Municipal-Building-Photo-for-Website.png
END:VEVENT
BEGIN:VEVENT
DTSTART;VALUE=DATE:20280222
DTEND;VALUE=DATE:20280223
DTSTAMP:20260421T073714
CREATED:20241127T143134Z
LAST-MODIFIED:20251110T210954Z
UID:10000873-1834790400-1834876799@www.kaukauna.gov
SUMMARY:Recycle Pick-Up
DESCRIPTION:
URL:https://www.kaukauna.gov/event/recycle-pick-up/2028-02-22/
CATEGORIES:For Residents
ATTACH;FMTTYPE=image/png:https://www.kaukauna.gov/wp-content/uploads/2024/11/Recycle-photo-for-website.png
END:VEVENT
BEGIN:VEVENT
DTSTART;VALUE=DATE:20280223
DTEND;VALUE=DATE:20280224
DTSTAMP:20260421T073714
CREATED:20241127T143134Z
LAST-MODIFIED:20251110T210954Z
UID:10000874-1834876800-1834963199@www.kaukauna.gov
SUMMARY:Recycle Pick-Up
DESCRIPTION:
URL:https://www.kaukauna.gov/event/recycle-pick-up/2028-02-23/
CATEGORIES:For Residents
ATTACH;FMTTYPE=image/png:https://www.kaukauna.gov/wp-content/uploads/2024/11/Recycle-photo-for-website.png
END:VEVENT
END:VCALENDAR