BEGIN:VCALENDAR
VERSION:2.0
PRODID:-//City Of Kaukauna - ECPv6.15.20//NONSGML v1.0//EN
CALSCALE:GREGORIAN
METHOD:PUBLISH
X-ORIGINAL-URL:https://www.kaukauna.gov
X-WR-CALDESC:Events for City Of Kaukauna
REFRESH-INTERVAL;VALUE=DURATION:PT1H
X-Robots-Tag:noindex
X-PUBLISHED-TTL:PT1H
BEGIN:VTIMEZONE
TZID:America/Chicago
BEGIN:DAYLIGHT
TZOFFSETFROM:-0600
TZOFFSETTO:-0500
TZNAME:CDT
DTSTART:20260308T080000
END:DAYLIGHT
BEGIN:STANDARD
TZOFFSETFROM:-0500
TZOFFSETTO:-0600
TZNAME:CST
DTSTART:20261101T070000
END:STANDARD
BEGIN:DAYLIGHT
TZOFFSETFROM:-0600
TZOFFSETTO:-0500
TZNAME:CDT
DTSTART:20270314T080000
END:DAYLIGHT
BEGIN:STANDARD
TZOFFSETFROM:-0500
TZOFFSETTO:-0600
TZNAME:CST
DTSTART:20271107T070000
END:STANDARD
BEGIN:DAYLIGHT
TZOFFSETFROM:-0600
TZOFFSETTO:-0500
TZNAME:CDT
DTSTART:20280312T080000
END:DAYLIGHT
BEGIN:STANDARD
TZOFFSETFROM:-0500
TZOFFSETTO:-0600
TZNAME:CST
DTSTART:20281105T070000
END:STANDARD
END:VTIMEZONE
BEGIN:VEVENT
DTSTART;VALUE=DATE:20270628
DTEND;VALUE=DATE:20270629
DTSTAMP:20260420T213532
CREATED:20241127T143134Z
LAST-MODIFIED:20251110T210954Z
UID:10000804-1814140800-1814227199@www.kaukauna.gov
SUMMARY:Recycle Pick-Up
DESCRIPTION:
URL:https://www.kaukauna.gov/event/recycle-pick-up/2027-06-28/
CATEGORIES:For Residents
ATTACH;FMTTYPE=image/png:https://www.kaukauna.gov/wp-content/uploads/2024/11/Recycle-photo-for-website.png
END:VEVENT
BEGIN:VEVENT
DTSTART;VALUE=DATE:20270629
DTEND;VALUE=DATE:20270630
DTSTAMP:20260420T213532
CREATED:20241127T143134Z
LAST-MODIFIED:20251110T210954Z
UID:10000805-1814227200-1814313599@www.kaukauna.gov
SUMMARY:Recycle Pick-Up
DESCRIPTION:
URL:https://www.kaukauna.gov/event/recycle-pick-up/2027-06-29/
CATEGORIES:For Residents
ATTACH;FMTTYPE=image/png:https://www.kaukauna.gov/wp-content/uploads/2024/11/Recycle-photo-for-website.png
END:VEVENT
BEGIN:VEVENT
DTSTART;VALUE=DATE:20270630
DTEND;VALUE=DATE:20270701
DTSTAMP:20260420T213532
CREATED:20241127T143134Z
LAST-MODIFIED:20251110T210954Z
UID:10000806-1814313600-1814399999@www.kaukauna.gov
SUMMARY:Recycle Pick-Up
DESCRIPTION:
URL:https://www.kaukauna.gov/event/recycle-pick-up/2027-06-30/
CATEGORIES:For Residents
ATTACH;FMTTYPE=image/png:https://www.kaukauna.gov/wp-content/uploads/2024/11/Recycle-photo-for-website.png
END:VEVENT
BEGIN:VEVENT
DTSTART;VALUE=DATE:20270701
DTEND;VALUE=DATE:20270702
DTSTAMP:20260420T213532
CREATED:20241127T143134Z
LAST-MODIFIED:20251110T210954Z
UID:10000807-1814400000-1814486399@www.kaukauna.gov
SUMMARY:Recycle Pick-Up
DESCRIPTION:
URL:https://www.kaukauna.gov/event/recycle-pick-up/2027-07-01/
CATEGORIES:For Residents
ATTACH;FMTTYPE=image/png:https://www.kaukauna.gov/wp-content/uploads/2024/11/Recycle-photo-for-website.png
END:VEVENT
BEGIN:VEVENT
DTSTART;TZID=America/Chicago:20270705T180000
DTEND;TZID=America/Chicago:20270705T200000
DTSTAMP:20260420T213532
CREATED:20251110T160623Z
LAST-MODIFIED:20251110T160624Z
UID:10001339-1814810400-1814817600@www.kaukauna.gov
SUMMARY:Committee Meetings
DESCRIPTION:
URL:https://www.kaukauna.gov/event/committee-meetings-3/2027-07-05/
CATEGORIES:For Residents
ATTACH;FMTTYPE=image/png:https://www.kaukauna.gov/wp-content/uploads/2024/11/Municipal-Building-Photo-for-Website.png
END:VEVENT
BEGIN:VEVENT
DTSTART;TZID=America/Chicago:20270706T190000
DTEND;TZID=America/Chicago:20270706T210000
DTSTAMP:20260420T213532
CREATED:20250630T113428Z
LAST-MODIFIED:20251110T161554Z
UID:10001088-1814900400-1814907600@www.kaukauna.gov
SUMMARY:Common Council Meeting
DESCRIPTION:
URL:https://www.kaukauna.gov/event/common-council-meeting-3/2027-07-06/
CATEGORIES:For Residents
ATTACH;FMTTYPE=image/png:https://www.kaukauna.gov/wp-content/uploads/2024/11/Municipal-Building-Photo-for-Website.png
END:VEVENT
BEGIN:VEVENT
DTSTART;VALUE=DATE:20270712
DTEND;VALUE=DATE:20270713
DTSTAMP:20260420T213532
CREATED:20241127T143134Z
LAST-MODIFIED:20251110T210954Z
UID:10000808-1815350400-1815436799@www.kaukauna.gov
SUMMARY:Recycle Pick-Up
DESCRIPTION:
URL:https://www.kaukauna.gov/event/recycle-pick-up/2027-07-12/
CATEGORIES:For Residents
ATTACH;FMTTYPE=image/png:https://www.kaukauna.gov/wp-content/uploads/2024/11/Recycle-photo-for-website.png
END:VEVENT
BEGIN:VEVENT
DTSTART;VALUE=DATE:20270713
DTEND;VALUE=DATE:20270714
DTSTAMP:20260420T213532
CREATED:20241127T143134Z
LAST-MODIFIED:20251110T210954Z
UID:10000809-1815436800-1815523199@www.kaukauna.gov
SUMMARY:Recycle Pick-Up
DESCRIPTION:
URL:https://www.kaukauna.gov/event/recycle-pick-up/2027-07-13/
CATEGORIES:For Residents
ATTACH;FMTTYPE=image/png:https://www.kaukauna.gov/wp-content/uploads/2024/11/Recycle-photo-for-website.png
END:VEVENT
BEGIN:VEVENT
DTSTART;VALUE=DATE:20270714
DTEND;VALUE=DATE:20270715
DTSTAMP:20260420T213532
CREATED:20241127T143134Z
LAST-MODIFIED:20251110T210954Z
UID:10000810-1815523200-1815609599@www.kaukauna.gov
SUMMARY:Recycle Pick-Up
DESCRIPTION:
URL:https://www.kaukauna.gov/event/recycle-pick-up/2027-07-14/
CATEGORIES:For Residents
ATTACH;FMTTYPE=image/png:https://www.kaukauna.gov/wp-content/uploads/2024/11/Recycle-photo-for-website.png
END:VEVENT
BEGIN:VEVENT
DTSTART;VALUE=DATE:20270715
DTEND;VALUE=DATE:20270716
DTSTAMP:20260420T213532
CREATED:20241127T143134Z
LAST-MODIFIED:20251110T210954Z
UID:10000811-1815609600-1815695999@www.kaukauna.gov
SUMMARY:Recycle Pick-Up
DESCRIPTION:
URL:https://www.kaukauna.gov/event/recycle-pick-up/2027-07-15/
CATEGORIES:For Residents
ATTACH;FMTTYPE=image/png:https://www.kaukauna.gov/wp-content/uploads/2024/11/Recycle-photo-for-website.png
END:VEVENT
BEGIN:VEVENT
DTSTART;TZID=America/Chicago:20270719T180000
DTEND;TZID=America/Chicago:20270719T200000
DTSTAMP:20260420T213532
CREATED:20241203T151815Z
LAST-MODIFIED:20251110T184701Z
UID:10001278-1816020000-1816027200@www.kaukauna.gov
SUMMARY:Committee Meetings
DESCRIPTION:
URL:https://www.kaukauna.gov/event/committee-meetings-2/2027-07-19/
CATEGORIES:For Residents
ATTACH;FMTTYPE=image/png:https://www.kaukauna.gov/wp-content/uploads/2024/11/Municipal-Building-Photo-for-Website.png
END:VEVENT
BEGIN:VEVENT
DTSTART;TZID=America/Chicago:20270720T190000
DTEND;TZID=America/Chicago:20270720T210000
DTSTAMP:20260420T213532
CREATED:20241127T150231Z
LAST-MODIFIED:20251110T184806Z
UID:10001147-1816110000-1816117200@www.kaukauna.gov
SUMMARY:Common Council Meeting
DESCRIPTION:
URL:https://www.kaukauna.gov/event/common-council-meeting-2/2027-07-20/
CATEGORIES:For Residents
ATTACH;FMTTYPE=image/png:https://www.kaukauna.gov/wp-content/uploads/2024/11/Municipal-Building-Photo-for-Website.png
END:VEVENT
BEGIN:VEVENT
DTSTART;VALUE=DATE:20270726
DTEND;VALUE=DATE:20270727
DTSTAMP:20260420T213532
CREATED:20241127T143134Z
LAST-MODIFIED:20251110T210954Z
UID:10000812-1816560000-1816646399@www.kaukauna.gov
SUMMARY:Recycle Pick-Up
DESCRIPTION:
URL:https://www.kaukauna.gov/event/recycle-pick-up/2027-07-26/
CATEGORIES:For Residents
ATTACH;FMTTYPE=image/png:https://www.kaukauna.gov/wp-content/uploads/2024/11/Recycle-photo-for-website.png
END:VEVENT
BEGIN:VEVENT
DTSTART;VALUE=DATE:20270727
DTEND;VALUE=DATE:20270728
DTSTAMP:20260420T213532
CREATED:20241127T143134Z
LAST-MODIFIED:20251110T210954Z
UID:10000813-1816646400-1816732799@www.kaukauna.gov
SUMMARY:Recycle Pick-Up
DESCRIPTION:
URL:https://www.kaukauna.gov/event/recycle-pick-up/2027-07-27/
CATEGORIES:For Residents
ATTACH;FMTTYPE=image/png:https://www.kaukauna.gov/wp-content/uploads/2024/11/Recycle-photo-for-website.png
END:VEVENT
BEGIN:VEVENT
DTSTART;VALUE=DATE:20270728
DTEND;VALUE=DATE:20270729
DTSTAMP:20260420T213532
CREATED:20241127T143134Z
LAST-MODIFIED:20251110T210954Z
UID:10000814-1816732800-1816819199@www.kaukauna.gov
SUMMARY:Recycle Pick-Up
DESCRIPTION:
URL:https://www.kaukauna.gov/event/recycle-pick-up/2027-07-28/
CATEGORIES:For Residents
ATTACH;FMTTYPE=image/png:https://www.kaukauna.gov/wp-content/uploads/2024/11/Recycle-photo-for-website.png
END:VEVENT
BEGIN:VEVENT
DTSTART;VALUE=DATE:20270729
DTEND;VALUE=DATE:20270730
DTSTAMP:20260420T213532
CREATED:20241127T143134Z
LAST-MODIFIED:20251110T210954Z
UID:10000815-1816819200-1816905599@www.kaukauna.gov
SUMMARY:Recycle Pick-Up
DESCRIPTION:
URL:https://www.kaukauna.gov/event/recycle-pick-up/2027-07-29/
CATEGORIES:For Residents
ATTACH;FMTTYPE=image/png:https://www.kaukauna.gov/wp-content/uploads/2024/11/Recycle-photo-for-website.png
END:VEVENT
BEGIN:VEVENT
DTSTART;TZID=America/Chicago:20270802T180000
DTEND;TZID=America/Chicago:20270802T200000
DTSTAMP:20260420T213532
CREATED:20251110T160623Z
LAST-MODIFIED:20251110T160624Z
UID:10001340-1817229600-1817236800@www.kaukauna.gov
SUMMARY:Committee Meetings
DESCRIPTION:
URL:https://www.kaukauna.gov/event/committee-meetings-3/2027-08-02/
CATEGORIES:For Residents
ATTACH;FMTTYPE=image/png:https://www.kaukauna.gov/wp-content/uploads/2024/11/Municipal-Building-Photo-for-Website.png
END:VEVENT
BEGIN:VEVENT
DTSTART;TZID=America/Chicago:20270803T190000
DTEND;TZID=America/Chicago:20270803T210000
DTSTAMP:20260420T213532
CREATED:20250630T113428Z
LAST-MODIFIED:20251110T161554Z
UID:10001089-1817319600-1817326800@www.kaukauna.gov
SUMMARY:Common Council Meeting
DESCRIPTION:
URL:https://www.kaukauna.gov/event/common-council-meeting-3/2027-08-03/
CATEGORIES:For Residents
ATTACH;FMTTYPE=image/png:https://www.kaukauna.gov/wp-content/uploads/2024/11/Municipal-Building-Photo-for-Website.png
END:VEVENT
BEGIN:VEVENT
DTSTART;VALUE=DATE:20270809
DTEND;VALUE=DATE:20270810
DTSTAMP:20260420T213532
CREATED:20241127T143134Z
LAST-MODIFIED:20251110T210954Z
UID:10000816-1817769600-1817855999@www.kaukauna.gov
SUMMARY:Recycle Pick-Up
DESCRIPTION:
URL:https://www.kaukauna.gov/event/recycle-pick-up/2027-08-09/
CATEGORIES:For Residents
ATTACH;FMTTYPE=image/png:https://www.kaukauna.gov/wp-content/uploads/2024/11/Recycle-photo-for-website.png
END:VEVENT
BEGIN:VEVENT
DTSTART;VALUE=DATE:20270810
DTEND;VALUE=DATE:20270811
DTSTAMP:20260420T213532
CREATED:20241127T143134Z
LAST-MODIFIED:20251110T210954Z
UID:10000817-1817856000-1817942399@www.kaukauna.gov
SUMMARY:Recycle Pick-Up
DESCRIPTION:
URL:https://www.kaukauna.gov/event/recycle-pick-up/2027-08-10/
CATEGORIES:For Residents
ATTACH;FMTTYPE=image/png:https://www.kaukauna.gov/wp-content/uploads/2024/11/Recycle-photo-for-website.png
END:VEVENT
BEGIN:VEVENT
DTSTART;VALUE=DATE:20270811
DTEND;VALUE=DATE:20270812
DTSTAMP:20260420T213532
CREATED:20241127T143134Z
LAST-MODIFIED:20251110T210954Z
UID:10000818-1817942400-1818028799@www.kaukauna.gov
SUMMARY:Recycle Pick-Up
DESCRIPTION:
URL:https://www.kaukauna.gov/event/recycle-pick-up/2027-08-11/
CATEGORIES:For Residents
ATTACH;FMTTYPE=image/png:https://www.kaukauna.gov/wp-content/uploads/2024/11/Recycle-photo-for-website.png
END:VEVENT
BEGIN:VEVENT
DTSTART;VALUE=DATE:20270812
DTEND;VALUE=DATE:20270813
DTSTAMP:20260420T213532
CREATED:20241127T143134Z
LAST-MODIFIED:20251110T210954Z
UID:10000819-1818028800-1818115199@www.kaukauna.gov
SUMMARY:Recycle Pick-Up
DESCRIPTION:
URL:https://www.kaukauna.gov/event/recycle-pick-up/2027-08-12/
CATEGORIES:For Residents
ATTACH;FMTTYPE=image/png:https://www.kaukauna.gov/wp-content/uploads/2024/11/Recycle-photo-for-website.png
END:VEVENT
BEGIN:VEVENT
DTSTART;TZID=America/Chicago:20270816T180000
DTEND;TZID=America/Chicago:20270816T200000
DTSTAMP:20260420T213532
CREATED:20241203T151815Z
LAST-MODIFIED:20251110T184701Z
UID:10001279-1818439200-1818446400@www.kaukauna.gov
SUMMARY:Committee Meetings
DESCRIPTION:
URL:https://www.kaukauna.gov/event/committee-meetings-2/2027-08-16/
CATEGORIES:For Residents
ATTACH;FMTTYPE=image/png:https://www.kaukauna.gov/wp-content/uploads/2024/11/Municipal-Building-Photo-for-Website.png
END:VEVENT
BEGIN:VEVENT
DTSTART;TZID=America/Chicago:20270817T190000
DTEND;TZID=America/Chicago:20270817T210000
DTSTAMP:20260420T213532
CREATED:20241127T150231Z
LAST-MODIFIED:20251110T184806Z
UID:10001148-1818529200-1818536400@www.kaukauna.gov
SUMMARY:Common Council Meeting
DESCRIPTION:
URL:https://www.kaukauna.gov/event/common-council-meeting-2/2027-08-17/
CATEGORIES:For Residents
ATTACH;FMTTYPE=image/png:https://www.kaukauna.gov/wp-content/uploads/2024/11/Municipal-Building-Photo-for-Website.png
END:VEVENT
BEGIN:VEVENT
DTSTART;VALUE=DATE:20270823
DTEND;VALUE=DATE:20270824
DTSTAMP:20260420T213532
CREATED:20241127T143134Z
LAST-MODIFIED:20251110T210954Z
UID:10000820-1818979200-1819065599@www.kaukauna.gov
SUMMARY:Recycle Pick-Up
DESCRIPTION:
URL:https://www.kaukauna.gov/event/recycle-pick-up/2027-08-23/
CATEGORIES:For Residents
ATTACH;FMTTYPE=image/png:https://www.kaukauna.gov/wp-content/uploads/2024/11/Recycle-photo-for-website.png
END:VEVENT
BEGIN:VEVENT
DTSTART;VALUE=DATE:20270824
DTEND;VALUE=DATE:20270825
DTSTAMP:20260420T213532
CREATED:20241127T143134Z
LAST-MODIFIED:20251110T210954Z
UID:10000821-1819065600-1819151999@www.kaukauna.gov
SUMMARY:Recycle Pick-Up
DESCRIPTION:
URL:https://www.kaukauna.gov/event/recycle-pick-up/2027-08-24/
CATEGORIES:For Residents
ATTACH;FMTTYPE=image/png:https://www.kaukauna.gov/wp-content/uploads/2024/11/Recycle-photo-for-website.png
END:VEVENT
BEGIN:VEVENT
DTSTART;VALUE=DATE:20270825
DTEND;VALUE=DATE:20270826
DTSTAMP:20260420T213532
CREATED:20241127T143134Z
LAST-MODIFIED:20251110T210954Z
UID:10000822-1819152000-1819238399@www.kaukauna.gov
SUMMARY:Recycle Pick-Up
DESCRIPTION:
URL:https://www.kaukauna.gov/event/recycle-pick-up/2027-08-25/
CATEGORIES:For Residents
ATTACH;FMTTYPE=image/png:https://www.kaukauna.gov/wp-content/uploads/2024/11/Recycle-photo-for-website.png
END:VEVENT
BEGIN:VEVENT
DTSTART;VALUE=DATE:20270826
DTEND;VALUE=DATE:20270827
DTSTAMP:20260420T213532
CREATED:20241127T143134Z
LAST-MODIFIED:20251110T210954Z
UID:10000823-1819238400-1819324799@www.kaukauna.gov
SUMMARY:Recycle Pick-Up
DESCRIPTION:
URL:https://www.kaukauna.gov/event/recycle-pick-up/2027-08-26/
CATEGORIES:For Residents
ATTACH;FMTTYPE=image/png:https://www.kaukauna.gov/wp-content/uploads/2024/11/Recycle-photo-for-website.png
END:VEVENT
BEGIN:VEVENT
DTSTART;VALUE=DATE:20270906
DTEND;VALUE=DATE:20270907
DTSTAMP:20260420T213532
CREATED:20241127T143134Z
LAST-MODIFIED:20251110T210954Z
UID:10000824-1820188800-1820275199@www.kaukauna.gov
SUMMARY:Recycle Pick-Up
DESCRIPTION:
URL:https://www.kaukauna.gov/event/recycle-pick-up/2027-09-06/
CATEGORIES:For Residents
ATTACH;FMTTYPE=image/png:https://www.kaukauna.gov/wp-content/uploads/2024/11/Recycle-photo-for-website.png
END:VEVENT
BEGIN:VEVENT
DTSTART;TZID=America/Chicago:20270906T180000
DTEND;TZID=America/Chicago:20270906T200000
DTSTAMP:20260420T213532
CREATED:20251110T160623Z
LAST-MODIFIED:20251110T160624Z
UID:10001341-1820253600-1820260800@www.kaukauna.gov
SUMMARY:Committee Meetings
DESCRIPTION:
URL:https://www.kaukauna.gov/event/committee-meetings-3/2027-09-06/
CATEGORIES:For Residents
ATTACH;FMTTYPE=image/png:https://www.kaukauna.gov/wp-content/uploads/2024/11/Municipal-Building-Photo-for-Website.png
END:VEVENT
END:VCALENDAR