BEGIN:VCALENDAR
VERSION:2.0
PRODID:-//City Of Kaukauna - ECPv6.15.20//NONSGML v1.0//EN
CALSCALE:GREGORIAN
METHOD:PUBLISH
X-WR-CALNAME:City Of Kaukauna
X-ORIGINAL-URL:https://www.kaukauna.gov
X-WR-CALDESC:Events for City Of Kaukauna
REFRESH-INTERVAL;VALUE=DURATION:PT1H
X-Robots-Tag:noindex
X-PUBLISHED-TTL:PT1H
BEGIN:VTIMEZONE
TZID:America/Chicago
BEGIN:DAYLIGHT
TZOFFSETFROM:-0600
TZOFFSETTO:-0500
TZNAME:CDT
DTSTART:20260308T080000
END:DAYLIGHT
BEGIN:STANDARD
TZOFFSETFROM:-0500
TZOFFSETTO:-0600
TZNAME:CST
DTSTART:20261101T070000
END:STANDARD
BEGIN:DAYLIGHT
TZOFFSETFROM:-0600
TZOFFSETTO:-0500
TZNAME:CDT
DTSTART:20270314T080000
END:DAYLIGHT
BEGIN:STANDARD
TZOFFSETFROM:-0500
TZOFFSETTO:-0600
TZNAME:CST
DTSTART:20271107T070000
END:STANDARD
BEGIN:DAYLIGHT
TZOFFSETFROM:-0600
TZOFFSETTO:-0500
TZNAME:CDT
DTSTART:20280312T080000
END:DAYLIGHT
BEGIN:STANDARD
TZOFFSETFROM:-0500
TZOFFSETTO:-0600
TZNAME:CST
DTSTART:20281105T070000
END:STANDARD
END:VTIMEZONE
BEGIN:VEVENT
DTSTART;TZID=America/Chicago:20270420T190000
DTEND;TZID=America/Chicago:20270420T210000
DTSTAMP:20260420T181300
CREATED:20241127T150231Z
LAST-MODIFIED:20251110T184806Z
UID:10001144-1808247600-1808254800@www.kaukauna.gov
SUMMARY:Common Council Meeting
DESCRIPTION:
URL:https://www.kaukauna.gov/event/common-council-meeting-2/2027-04-20/
CATEGORIES:For Residents
ATTACH;FMTTYPE=image/png:https://www.kaukauna.gov/wp-content/uploads/2024/11/Municipal-Building-Photo-for-Website.png
END:VEVENT
BEGIN:VEVENT
DTSTART;VALUE=DATE:20270421
DTEND;VALUE=DATE:20270422
DTSTAMP:20260420T181300
CREATED:20241127T143134Z
LAST-MODIFIED:20251110T210954Z
UID:10000786-1808265600-1808351999@www.kaukauna.gov
SUMMARY:Recycle Pick-Up
DESCRIPTION:
URL:https://www.kaukauna.gov/event/recycle-pick-up/2027-04-21/
CATEGORIES:For Residents
ATTACH;FMTTYPE=image/png:https://www.kaukauna.gov/wp-content/uploads/2024/11/Recycle-photo-for-website.png
END:VEVENT
BEGIN:VEVENT
DTSTART;VALUE=DATE:20270422
DTEND;VALUE=DATE:20270423
DTSTAMP:20260420T181300
CREATED:20241127T143134Z
LAST-MODIFIED:20251110T210954Z
UID:10000787-1808352000-1808438399@www.kaukauna.gov
SUMMARY:Recycle Pick-Up
DESCRIPTION:
URL:https://www.kaukauna.gov/event/recycle-pick-up/2027-04-22/
CATEGORIES:For Residents
ATTACH;FMTTYPE=image/png:https://www.kaukauna.gov/wp-content/uploads/2024/11/Recycle-photo-for-website.png
END:VEVENT
BEGIN:VEVENT
DTSTART;VALUE=DATE:20270503
DTEND;VALUE=DATE:20270504
DTSTAMP:20260420T181300
CREATED:20241127T143134Z
LAST-MODIFIED:20251110T210954Z
UID:10000788-1809302400-1809388799@www.kaukauna.gov
SUMMARY:Recycle Pick-Up
DESCRIPTION:
URL:https://www.kaukauna.gov/event/recycle-pick-up/2027-05-03/
CATEGORIES:For Residents
ATTACH;FMTTYPE=image/png:https://www.kaukauna.gov/wp-content/uploads/2024/11/Recycle-photo-for-website.png
END:VEVENT
BEGIN:VEVENT
DTSTART;TZID=America/Chicago:20270503T180000
DTEND;TZID=America/Chicago:20270503T200000
DTSTAMP:20260420T181300
CREATED:20251110T160623Z
LAST-MODIFIED:20251110T160624Z
UID:10001337-1809367200-1809374400@www.kaukauna.gov
SUMMARY:Committee Meetings
DESCRIPTION:
URL:https://www.kaukauna.gov/event/committee-meetings-3/2027-05-03/
CATEGORIES:For Residents
ATTACH;FMTTYPE=image/png:https://www.kaukauna.gov/wp-content/uploads/2024/11/Municipal-Building-Photo-for-Website.png
END:VEVENT
BEGIN:VEVENT
DTSTART;VALUE=DATE:20270504
DTEND;VALUE=DATE:20270505
DTSTAMP:20260420T181300
CREATED:20241127T143134Z
LAST-MODIFIED:20251110T210954Z
UID:10000789-1809388800-1809475199@www.kaukauna.gov
SUMMARY:Recycle Pick-Up
DESCRIPTION:
URL:https://www.kaukauna.gov/event/recycle-pick-up/2027-05-04/
CATEGORIES:For Residents
ATTACH;FMTTYPE=image/png:https://www.kaukauna.gov/wp-content/uploads/2024/11/Recycle-photo-for-website.png
END:VEVENT
BEGIN:VEVENT
DTSTART;TZID=America/Chicago:20270504T190000
DTEND;TZID=America/Chicago:20270504T210000
DTSTAMP:20260420T181300
CREATED:20250630T113428Z
LAST-MODIFIED:20251110T161554Z
UID:10001086-1809457200-1809464400@www.kaukauna.gov
SUMMARY:Common Council Meeting
DESCRIPTION:
URL:https://www.kaukauna.gov/event/common-council-meeting-3/2027-05-04/
CATEGORIES:For Residents
ATTACH;FMTTYPE=image/png:https://www.kaukauna.gov/wp-content/uploads/2024/11/Municipal-Building-Photo-for-Website.png
END:VEVENT
BEGIN:VEVENT
DTSTART;VALUE=DATE:20270505
DTEND;VALUE=DATE:20270506
DTSTAMP:20260420T181300
CREATED:20241127T143134Z
LAST-MODIFIED:20251110T210954Z
UID:10000790-1809475200-1809561599@www.kaukauna.gov
SUMMARY:Recycle Pick-Up
DESCRIPTION:
URL:https://www.kaukauna.gov/event/recycle-pick-up/2027-05-05/
CATEGORIES:For Residents
ATTACH;FMTTYPE=image/png:https://www.kaukauna.gov/wp-content/uploads/2024/11/Recycle-photo-for-website.png
END:VEVENT
BEGIN:VEVENT
DTSTART;VALUE=DATE:20270506
DTEND;VALUE=DATE:20270507
DTSTAMP:20260420T181300
CREATED:20241127T143134Z
LAST-MODIFIED:20251110T210954Z
UID:10000791-1809561600-1809647999@www.kaukauna.gov
SUMMARY:Recycle Pick-Up
DESCRIPTION:
URL:https://www.kaukauna.gov/event/recycle-pick-up/2027-05-06/
CATEGORIES:For Residents
ATTACH;FMTTYPE=image/png:https://www.kaukauna.gov/wp-content/uploads/2024/11/Recycle-photo-for-website.png
END:VEVENT
BEGIN:VEVENT
DTSTART;VALUE=DATE:20270517
DTEND;VALUE=DATE:20270518
DTSTAMP:20260420T181300
CREATED:20241127T143134Z
LAST-MODIFIED:20251110T210954Z
UID:10000792-1810512000-1810598399@www.kaukauna.gov
SUMMARY:Recycle Pick-Up
DESCRIPTION:
URL:https://www.kaukauna.gov/event/recycle-pick-up/2027-05-17/
CATEGORIES:For Residents
ATTACH;FMTTYPE=image/png:https://www.kaukauna.gov/wp-content/uploads/2024/11/Recycle-photo-for-website.png
END:VEVENT
BEGIN:VEVENT
DTSTART;TZID=America/Chicago:20270517T180000
DTEND;TZID=America/Chicago:20270517T200000
DTSTAMP:20260420T181300
CREATED:20241203T151815Z
LAST-MODIFIED:20251110T184701Z
UID:10001276-1810576800-1810584000@www.kaukauna.gov
SUMMARY:Committee Meetings
DESCRIPTION:
URL:https://www.kaukauna.gov/event/committee-meetings-2/2027-05-17/
CATEGORIES:For Residents
ATTACH;FMTTYPE=image/png:https://www.kaukauna.gov/wp-content/uploads/2024/11/Municipal-Building-Photo-for-Website.png
END:VEVENT
BEGIN:VEVENT
DTSTART;VALUE=DATE:20270518
DTEND;VALUE=DATE:20270519
DTSTAMP:20260420T181300
CREATED:20241127T143134Z
LAST-MODIFIED:20251110T210954Z
UID:10000793-1810598400-1810684799@www.kaukauna.gov
SUMMARY:Recycle Pick-Up
DESCRIPTION:
URL:https://www.kaukauna.gov/event/recycle-pick-up/2027-05-18/
CATEGORIES:For Residents
ATTACH;FMTTYPE=image/png:https://www.kaukauna.gov/wp-content/uploads/2024/11/Recycle-photo-for-website.png
END:VEVENT
BEGIN:VEVENT
DTSTART;TZID=America/Chicago:20270518T190000
DTEND;TZID=America/Chicago:20270518T210000
DTSTAMP:20260420T181300
CREATED:20241127T150231Z
LAST-MODIFIED:20251110T184806Z
UID:10001145-1810666800-1810674000@www.kaukauna.gov
SUMMARY:Common Council Meeting
DESCRIPTION:
URL:https://www.kaukauna.gov/event/common-council-meeting-2/2027-05-18/
CATEGORIES:For Residents
ATTACH;FMTTYPE=image/png:https://www.kaukauna.gov/wp-content/uploads/2024/11/Municipal-Building-Photo-for-Website.png
END:VEVENT
BEGIN:VEVENT
DTSTART;VALUE=DATE:20270519
DTEND;VALUE=DATE:20270520
DTSTAMP:20260420T181300
CREATED:20241127T143134Z
LAST-MODIFIED:20251110T210954Z
UID:10000794-1810684800-1810771199@www.kaukauna.gov
SUMMARY:Recycle Pick-Up
DESCRIPTION:
URL:https://www.kaukauna.gov/event/recycle-pick-up/2027-05-19/
CATEGORIES:For Residents
ATTACH;FMTTYPE=image/png:https://www.kaukauna.gov/wp-content/uploads/2024/11/Recycle-photo-for-website.png
END:VEVENT
BEGIN:VEVENT
DTSTART;VALUE=DATE:20270520
DTEND;VALUE=DATE:20270521
DTSTAMP:20260420T181300
CREATED:20241127T143134Z
LAST-MODIFIED:20251110T210954Z
UID:10000795-1810771200-1810857599@www.kaukauna.gov
SUMMARY:Recycle Pick-Up
DESCRIPTION:
URL:https://www.kaukauna.gov/event/recycle-pick-up/2027-05-20/
CATEGORIES:For Residents
ATTACH;FMTTYPE=image/png:https://www.kaukauna.gov/wp-content/uploads/2024/11/Recycle-photo-for-website.png
END:VEVENT
BEGIN:VEVENT
DTSTART;VALUE=DATE:20270531
DTEND;VALUE=DATE:20270601
DTSTAMP:20260420T181300
CREATED:20241127T143134Z
LAST-MODIFIED:20251110T210954Z
UID:10000796-1811721600-1811807999@www.kaukauna.gov
SUMMARY:Recycle Pick-Up
DESCRIPTION:
URL:https://www.kaukauna.gov/event/recycle-pick-up/2027-05-31/
CATEGORIES:For Residents
ATTACH;FMTTYPE=image/png:https://www.kaukauna.gov/wp-content/uploads/2024/11/Recycle-photo-for-website.png
END:VEVENT
BEGIN:VEVENT
DTSTART;VALUE=DATE:20270601
DTEND;VALUE=DATE:20270602
DTSTAMP:20260420T181300
CREATED:20241127T143134Z
LAST-MODIFIED:20251110T210954Z
UID:10000797-1811808000-1811894399@www.kaukauna.gov
SUMMARY:Recycle Pick-Up
DESCRIPTION:
URL:https://www.kaukauna.gov/event/recycle-pick-up/2027-06-01/
CATEGORIES:For Residents
ATTACH;FMTTYPE=image/png:https://www.kaukauna.gov/wp-content/uploads/2024/11/Recycle-photo-for-website.png
END:VEVENT
BEGIN:VEVENT
DTSTART;TZID=America/Chicago:20270601T190000
DTEND;TZID=America/Chicago:20270601T210000
DTSTAMP:20260420T181300
CREATED:20250630T113428Z
LAST-MODIFIED:20251110T161554Z
UID:10001087-1811876400-1811883600@www.kaukauna.gov
SUMMARY:Common Council Meeting
DESCRIPTION:
URL:https://www.kaukauna.gov/event/common-council-meeting-3/2027-06-01/
CATEGORIES:For Residents
ATTACH;FMTTYPE=image/png:https://www.kaukauna.gov/wp-content/uploads/2024/11/Municipal-Building-Photo-for-Website.png
END:VEVENT
BEGIN:VEVENT
DTSTART;VALUE=DATE:20270602
DTEND;VALUE=DATE:20270603
DTSTAMP:20260420T181300
CREATED:20241127T143134Z
LAST-MODIFIED:20251110T210954Z
UID:10000798-1811894400-1811980799@www.kaukauna.gov
SUMMARY:Recycle Pick-Up
DESCRIPTION:
URL:https://www.kaukauna.gov/event/recycle-pick-up/2027-06-02/
CATEGORIES:For Residents
ATTACH;FMTTYPE=image/png:https://www.kaukauna.gov/wp-content/uploads/2024/11/Recycle-photo-for-website.png
END:VEVENT
BEGIN:VEVENT
DTSTART;VALUE=DATE:20270603
DTEND;VALUE=DATE:20270604
DTSTAMP:20260420T181300
CREATED:20241127T143134Z
LAST-MODIFIED:20251110T210954Z
UID:10000799-1811980800-1812067199@www.kaukauna.gov
SUMMARY:Recycle Pick-Up
DESCRIPTION:
URL:https://www.kaukauna.gov/event/recycle-pick-up/2027-06-03/
CATEGORIES:For Residents
ATTACH;FMTTYPE=image/png:https://www.kaukauna.gov/wp-content/uploads/2024/11/Recycle-photo-for-website.png
END:VEVENT
BEGIN:VEVENT
DTSTART;TZID=America/Chicago:20270607T180000
DTEND;TZID=America/Chicago:20270607T200000
DTSTAMP:20260420T181300
CREATED:20251110T160623Z
LAST-MODIFIED:20251110T160624Z
UID:10001338-1812391200-1812398400@www.kaukauna.gov
SUMMARY:Committee Meetings
DESCRIPTION:
URL:https://www.kaukauna.gov/event/committee-meetings-3/2027-06-07/
CATEGORIES:For Residents
ATTACH;FMTTYPE=image/png:https://www.kaukauna.gov/wp-content/uploads/2024/11/Municipal-Building-Photo-for-Website.png
END:VEVENT
BEGIN:VEVENT
DTSTART;VALUE=DATE:20270614
DTEND;VALUE=DATE:20270615
DTSTAMP:20260420T181300
CREATED:20241127T143134Z
LAST-MODIFIED:20251110T210954Z
UID:10000800-1812931200-1813017599@www.kaukauna.gov
SUMMARY:Recycle Pick-Up
DESCRIPTION:
URL:https://www.kaukauna.gov/event/recycle-pick-up/2027-06-14/
CATEGORIES:For Residents
ATTACH;FMTTYPE=image/png:https://www.kaukauna.gov/wp-content/uploads/2024/11/Recycle-photo-for-website.png
END:VEVENT
BEGIN:VEVENT
DTSTART;VALUE=DATE:20270615
DTEND;VALUE=DATE:20270616
DTSTAMP:20260420T181300
CREATED:20241127T143134Z
LAST-MODIFIED:20251110T210954Z
UID:10000801-1813017600-1813103999@www.kaukauna.gov
SUMMARY:Recycle Pick-Up
DESCRIPTION:
URL:https://www.kaukauna.gov/event/recycle-pick-up/2027-06-15/
CATEGORIES:For Residents
ATTACH;FMTTYPE=image/png:https://www.kaukauna.gov/wp-content/uploads/2024/11/Recycle-photo-for-website.png
END:VEVENT
BEGIN:VEVENT
DTSTART;TZID=America/Chicago:20270615T190000
DTEND;TZID=America/Chicago:20270615T210000
DTSTAMP:20260420T181300
CREATED:20241127T150231Z
LAST-MODIFIED:20251110T184806Z
UID:10001146-1813086000-1813093200@www.kaukauna.gov
SUMMARY:Common Council Meeting
DESCRIPTION:
URL:https://www.kaukauna.gov/event/common-council-meeting-2/2027-06-15/
CATEGORIES:For Residents
ATTACH;FMTTYPE=image/png:https://www.kaukauna.gov/wp-content/uploads/2024/11/Municipal-Building-Photo-for-Website.png
END:VEVENT
BEGIN:VEVENT
DTSTART;VALUE=DATE:20270616
DTEND;VALUE=DATE:20270617
DTSTAMP:20260420T181300
CREATED:20241127T143134Z
LAST-MODIFIED:20251110T210954Z
UID:10000802-1813104000-1813190399@www.kaukauna.gov
SUMMARY:Recycle Pick-Up
DESCRIPTION:
URL:https://www.kaukauna.gov/event/recycle-pick-up/2027-06-16/
CATEGORIES:For Residents
ATTACH;FMTTYPE=image/png:https://www.kaukauna.gov/wp-content/uploads/2024/11/Recycle-photo-for-website.png
END:VEVENT
BEGIN:VEVENT
DTSTART;VALUE=DATE:20270617
DTEND;VALUE=DATE:20270618
DTSTAMP:20260420T181300
CREATED:20241127T143134Z
LAST-MODIFIED:20251110T210954Z
UID:10000803-1813190400-1813276799@www.kaukauna.gov
SUMMARY:Recycle Pick-Up
DESCRIPTION:
URL:https://www.kaukauna.gov/event/recycle-pick-up/2027-06-17/
CATEGORIES:For Residents
ATTACH;FMTTYPE=image/png:https://www.kaukauna.gov/wp-content/uploads/2024/11/Recycle-photo-for-website.png
END:VEVENT
BEGIN:VEVENT
DTSTART;TZID=America/Chicago:20270621T180000
DTEND;TZID=America/Chicago:20270621T200000
DTSTAMP:20260420T181300
CREATED:20241203T151815Z
LAST-MODIFIED:20251110T184701Z
UID:10001277-1813600800-1813608000@www.kaukauna.gov
SUMMARY:Committee Meetings
DESCRIPTION:
URL:https://www.kaukauna.gov/event/committee-meetings-2/2027-06-21/
CATEGORIES:For Residents
ATTACH;FMTTYPE=image/png:https://www.kaukauna.gov/wp-content/uploads/2024/11/Municipal-Building-Photo-for-Website.png
END:VEVENT
BEGIN:VEVENT
DTSTART;VALUE=DATE:20270628
DTEND;VALUE=DATE:20270629
DTSTAMP:20260420T181300
CREATED:20241127T143134Z
LAST-MODIFIED:20251110T210954Z
UID:10000804-1814140800-1814227199@www.kaukauna.gov
SUMMARY:Recycle Pick-Up
DESCRIPTION:
URL:https://www.kaukauna.gov/event/recycle-pick-up/2027-06-28/
CATEGORIES:For Residents
ATTACH;FMTTYPE=image/png:https://www.kaukauna.gov/wp-content/uploads/2024/11/Recycle-photo-for-website.png
END:VEVENT
BEGIN:VEVENT
DTSTART;VALUE=DATE:20270629
DTEND;VALUE=DATE:20270630
DTSTAMP:20260420T181300
CREATED:20241127T143134Z
LAST-MODIFIED:20251110T210954Z
UID:10000805-1814227200-1814313599@www.kaukauna.gov
SUMMARY:Recycle Pick-Up
DESCRIPTION:
URL:https://www.kaukauna.gov/event/recycle-pick-up/2027-06-29/
CATEGORIES:For Residents
ATTACH;FMTTYPE=image/png:https://www.kaukauna.gov/wp-content/uploads/2024/11/Recycle-photo-for-website.png
END:VEVENT
BEGIN:VEVENT
DTSTART;VALUE=DATE:20270630
DTEND;VALUE=DATE:20270701
DTSTAMP:20260420T181300
CREATED:20241127T143134Z
LAST-MODIFIED:20251110T210954Z
UID:10000806-1814313600-1814399999@www.kaukauna.gov
SUMMARY:Recycle Pick-Up
DESCRIPTION:
URL:https://www.kaukauna.gov/event/recycle-pick-up/2027-06-30/
CATEGORIES:For Residents
ATTACH;FMTTYPE=image/png:https://www.kaukauna.gov/wp-content/uploads/2024/11/Recycle-photo-for-website.png
END:VEVENT
END:VCALENDAR