BEGIN:VCALENDAR
VERSION:2.0
PRODID:-//City Of Kaukauna - ECPv6.15.20//NONSGML v1.0//EN
CALSCALE:GREGORIAN
METHOD:PUBLISH
X-ORIGINAL-URL:https://www.kaukauna.gov
X-WR-CALDESC:Events for City Of Kaukauna
REFRESH-INTERVAL;VALUE=DURATION:PT1H
X-Robots-Tag:noindex
X-PUBLISHED-TTL:PT1H
BEGIN:VTIMEZONE
TZID:America/Chicago
BEGIN:DAYLIGHT
TZOFFSETFROM:-0600
TZOFFSETTO:-0500
TZNAME:CDT
DTSTART:20250309T080000
END:DAYLIGHT
BEGIN:STANDARD
TZOFFSETFROM:-0500
TZOFFSETTO:-0600
TZNAME:CST
DTSTART:20251102T070000
END:STANDARD
BEGIN:DAYLIGHT
TZOFFSETFROM:-0600
TZOFFSETTO:-0500
TZNAME:CDT
DTSTART:20260308T080000
END:DAYLIGHT
BEGIN:STANDARD
TZOFFSETFROM:-0500
TZOFFSETTO:-0600
TZNAME:CST
DTSTART:20261101T070000
END:STANDARD
BEGIN:DAYLIGHT
TZOFFSETFROM:-0600
TZOFFSETTO:-0500
TZNAME:CDT
DTSTART:20270314T080000
END:DAYLIGHT
BEGIN:STANDARD
TZOFFSETFROM:-0500
TZOFFSETTO:-0600
TZNAME:CST
DTSTART:20271107T070000
END:STANDARD
BEGIN:DAYLIGHT
TZOFFSETFROM:-0600
TZOFFSETTO:-0500
TZNAME:CDT
DTSTART:20280312T080000
END:DAYLIGHT
BEGIN:STANDARD
TZOFFSETFROM:-0500
TZOFFSETTO:-0600
TZNAME:CST
DTSTART:20281105T070000
END:STANDARD
END:VTIMEZONE
BEGIN:VEVENT
DTSTART;VALUE=DATE:20261229
DTEND;VALUE=DATE:20261230
DTSTAMP:20260420T131609
CREATED:20241127T143134Z
LAST-MODIFIED:20251110T210954Z
UID:10000753-1798502400-1798588799@www.kaukauna.gov
SUMMARY:Recycle Pick-Up
DESCRIPTION:
URL:https://www.kaukauna.gov/event/recycle-pick-up/2026-12-29/
CATEGORIES:For Residents
ATTACH;FMTTYPE=image/png:https://www.kaukauna.gov/wp-content/uploads/2024/11/Recycle-photo-for-website.png
END:VEVENT
BEGIN:VEVENT
DTSTART;VALUE=DATE:20261230
DTEND;VALUE=DATE:20261231
DTSTAMP:20260420T131609
CREATED:20241127T143134Z
LAST-MODIFIED:20251110T210954Z
UID:10000754-1798588800-1798675199@www.kaukauna.gov
SUMMARY:Recycle Pick-Up
DESCRIPTION:
URL:https://www.kaukauna.gov/event/recycle-pick-up/2026-12-30/
CATEGORIES:For Residents
ATTACH;FMTTYPE=image/png:https://www.kaukauna.gov/wp-content/uploads/2024/11/Recycle-photo-for-website.png
END:VEVENT
BEGIN:VEVENT
DTSTART;VALUE=DATE:20261231
DTEND;VALUE=DATE:20270101
DTSTAMP:20260420T131609
CREATED:20241127T143134Z
LAST-MODIFIED:20251110T210954Z
UID:10000755-1798675200-1798761599@www.kaukauna.gov
SUMMARY:Recycle Pick-Up
DESCRIPTION:
URL:https://www.kaukauna.gov/event/recycle-pick-up/2026-12-31/
CATEGORIES:For Residents
ATTACH;FMTTYPE=image/png:https://www.kaukauna.gov/wp-content/uploads/2024/11/Recycle-photo-for-website.png
END:VEVENT
BEGIN:VEVENT
DTSTART;TZID=America/Chicago:20270104T180000
DTEND;TZID=America/Chicago:20270104T200000
DTSTAMP:20260420T131609
CREATED:20251110T160623Z
LAST-MODIFIED:20251110T160624Z
UID:10001333-1799085600-1799092800@www.kaukauna.gov
SUMMARY:Committee Meetings
DESCRIPTION:
URL:https://www.kaukauna.gov/event/committee-meetings-3/2027-01-04/
CATEGORIES:For Residents
ATTACH;FMTTYPE=image/png:https://www.kaukauna.gov/wp-content/uploads/2024/11/Municipal-Building-Photo-for-Website.png
END:VEVENT
BEGIN:VEVENT
DTSTART;TZID=America/Chicago:20270105T190000
DTEND;TZID=America/Chicago:20270105T210000
DTSTAMP:20260420T131609
CREATED:20250630T113428Z
LAST-MODIFIED:20251110T161554Z
UID:10001082-1799175600-1799182800@www.kaukauna.gov
SUMMARY:Common Council Meeting
DESCRIPTION:
URL:https://www.kaukauna.gov/event/common-council-meeting-3/2027-01-05/
CATEGORIES:For Residents
ATTACH;FMTTYPE=image/png:https://www.kaukauna.gov/wp-content/uploads/2024/11/Municipal-Building-Photo-for-Website.png
END:VEVENT
BEGIN:VEVENT
DTSTART;VALUE=DATE:20270111
DTEND;VALUE=DATE:20270112
DTSTAMP:20260420T131609
CREATED:20241127T143134Z
LAST-MODIFIED:20251110T210954Z
UID:10000756-1799625600-1799711999@www.kaukauna.gov
SUMMARY:Recycle Pick-Up
DESCRIPTION:
URL:https://www.kaukauna.gov/event/recycle-pick-up/2027-01-11/
CATEGORIES:For Residents
ATTACH;FMTTYPE=image/png:https://www.kaukauna.gov/wp-content/uploads/2024/11/Recycle-photo-for-website.png
END:VEVENT
BEGIN:VEVENT
DTSTART;VALUE=DATE:20270112
DTEND;VALUE=DATE:20270113
DTSTAMP:20260420T131609
CREATED:20241127T143134Z
LAST-MODIFIED:20251110T210954Z
UID:10000757-1799712000-1799798399@www.kaukauna.gov
SUMMARY:Recycle Pick-Up
DESCRIPTION:
URL:https://www.kaukauna.gov/event/recycle-pick-up/2027-01-12/
CATEGORIES:For Residents
ATTACH;FMTTYPE=image/png:https://www.kaukauna.gov/wp-content/uploads/2024/11/Recycle-photo-for-website.png
END:VEVENT
BEGIN:VEVENT
DTSTART;VALUE=DATE:20270113
DTEND;VALUE=DATE:20270114
DTSTAMP:20260420T131609
CREATED:20241127T143134Z
LAST-MODIFIED:20251110T210954Z
UID:10000758-1799798400-1799884799@www.kaukauna.gov
SUMMARY:Recycle Pick-Up
DESCRIPTION:
URL:https://www.kaukauna.gov/event/recycle-pick-up/2027-01-13/
CATEGORIES:For Residents
ATTACH;FMTTYPE=image/png:https://www.kaukauna.gov/wp-content/uploads/2024/11/Recycle-photo-for-website.png
END:VEVENT
BEGIN:VEVENT
DTSTART;VALUE=DATE:20270114
DTEND;VALUE=DATE:20270115
DTSTAMP:20260420T131609
CREATED:20241127T143134Z
LAST-MODIFIED:20251110T210954Z
UID:10000759-1799884800-1799971199@www.kaukauna.gov
SUMMARY:Recycle Pick-Up
DESCRIPTION:
URL:https://www.kaukauna.gov/event/recycle-pick-up/2027-01-14/
CATEGORIES:For Residents
ATTACH;FMTTYPE=image/png:https://www.kaukauna.gov/wp-content/uploads/2024/11/Recycle-photo-for-website.png
END:VEVENT
BEGIN:VEVENT
DTSTART;TZID=America/Chicago:20270118T180000
DTEND;TZID=America/Chicago:20270118T200000
DTSTAMP:20260420T131609
CREATED:20241203T151815Z
LAST-MODIFIED:20251110T184701Z
UID:10001272-1800295200-1800302400@www.kaukauna.gov
SUMMARY:Committee Meetings
DESCRIPTION:
URL:https://www.kaukauna.gov/event/committee-meetings-2/2027-01-18/
CATEGORIES:For Residents
ATTACH;FMTTYPE=image/png:https://www.kaukauna.gov/wp-content/uploads/2024/11/Municipal-Building-Photo-for-Website.png
END:VEVENT
BEGIN:VEVENT
DTSTART;TZID=America/Chicago:20270119T190000
DTEND;TZID=America/Chicago:20270119T210000
DTSTAMP:20260420T131609
CREATED:20241127T150231Z
LAST-MODIFIED:20251110T184806Z
UID:10001141-1800385200-1800392400@www.kaukauna.gov
SUMMARY:Common Council Meeting
DESCRIPTION:
URL:https://www.kaukauna.gov/event/common-council-meeting-2/2027-01-19/
CATEGORIES:For Residents
ATTACH;FMTTYPE=image/png:https://www.kaukauna.gov/wp-content/uploads/2024/11/Municipal-Building-Photo-for-Website.png
END:VEVENT
BEGIN:VEVENT
DTSTART;VALUE=DATE:20270125
DTEND;VALUE=DATE:20270126
DTSTAMP:20260420T131609
CREATED:20241127T143134Z
LAST-MODIFIED:20251110T210954Z
UID:10000760-1800835200-1800921599@www.kaukauna.gov
SUMMARY:Recycle Pick-Up
DESCRIPTION:
URL:https://www.kaukauna.gov/event/recycle-pick-up/2027-01-25/
CATEGORIES:For Residents
ATTACH;FMTTYPE=image/png:https://www.kaukauna.gov/wp-content/uploads/2024/11/Recycle-photo-for-website.png
END:VEVENT
BEGIN:VEVENT
DTSTART;VALUE=DATE:20270126
DTEND;VALUE=DATE:20270127
DTSTAMP:20260420T131609
CREATED:20241127T143134Z
LAST-MODIFIED:20251110T210954Z
UID:10000761-1800921600-1801007999@www.kaukauna.gov
SUMMARY:Recycle Pick-Up
DESCRIPTION:
URL:https://www.kaukauna.gov/event/recycle-pick-up/2027-01-26/
CATEGORIES:For Residents
ATTACH;FMTTYPE=image/png:https://www.kaukauna.gov/wp-content/uploads/2024/11/Recycle-photo-for-website.png
END:VEVENT
BEGIN:VEVENT
DTSTART;VALUE=DATE:20270127
DTEND;VALUE=DATE:20270128
DTSTAMP:20260420T131609
CREATED:20241127T143134Z
LAST-MODIFIED:20251110T210954Z
UID:10000762-1801008000-1801094399@www.kaukauna.gov
SUMMARY:Recycle Pick-Up
DESCRIPTION:
URL:https://www.kaukauna.gov/event/recycle-pick-up/2027-01-27/
CATEGORIES:For Residents
ATTACH;FMTTYPE=image/png:https://www.kaukauna.gov/wp-content/uploads/2024/11/Recycle-photo-for-website.png
END:VEVENT
BEGIN:VEVENT
DTSTART;VALUE=DATE:20270128
DTEND;VALUE=DATE:20270129
DTSTAMP:20260420T131609
CREATED:20241127T143134Z
LAST-MODIFIED:20251110T210954Z
UID:10000763-1801094400-1801180799@www.kaukauna.gov
SUMMARY:Recycle Pick-Up
DESCRIPTION:
URL:https://www.kaukauna.gov/event/recycle-pick-up/2027-01-28/
CATEGORIES:For Residents
ATTACH;FMTTYPE=image/png:https://www.kaukauna.gov/wp-content/uploads/2024/11/Recycle-photo-for-website.png
END:VEVENT
BEGIN:VEVENT
DTSTART;TZID=America/Chicago:20270201T180000
DTEND;TZID=America/Chicago:20270201T200000
DTSTAMP:20260420T131609
CREATED:20251110T160623Z
LAST-MODIFIED:20251110T160624Z
UID:10001334-1801504800-1801512000@www.kaukauna.gov
SUMMARY:Committee Meetings
DESCRIPTION:
URL:https://www.kaukauna.gov/event/committee-meetings-3/2027-02-01/
CATEGORIES:For Residents
ATTACH;FMTTYPE=image/png:https://www.kaukauna.gov/wp-content/uploads/2024/11/Municipal-Building-Photo-for-Website.png
END:VEVENT
BEGIN:VEVENT
DTSTART;TZID=America/Chicago:20270202T190000
DTEND;TZID=America/Chicago:20270202T210000
DTSTAMP:20260420T131609
CREATED:20250630T113428Z
LAST-MODIFIED:20251110T161554Z
UID:10001083-1801594800-1801602000@www.kaukauna.gov
SUMMARY:Common Council Meeting
DESCRIPTION:
URL:https://www.kaukauna.gov/event/common-council-meeting-3/2027-02-02/
CATEGORIES:For Residents
ATTACH;FMTTYPE=image/png:https://www.kaukauna.gov/wp-content/uploads/2024/11/Municipal-Building-Photo-for-Website.png
END:VEVENT
BEGIN:VEVENT
DTSTART;VALUE=DATE:20270208
DTEND;VALUE=DATE:20270209
DTSTAMP:20260420T131609
CREATED:20241127T143134Z
LAST-MODIFIED:20251110T210954Z
UID:10000764-1802044800-1802131199@www.kaukauna.gov
SUMMARY:Recycle Pick-Up
DESCRIPTION:
URL:https://www.kaukauna.gov/event/recycle-pick-up/2027-02-08/
CATEGORIES:For Residents
ATTACH;FMTTYPE=image/png:https://www.kaukauna.gov/wp-content/uploads/2024/11/Recycle-photo-for-website.png
END:VEVENT
BEGIN:VEVENT
DTSTART;VALUE=DATE:20270209
DTEND;VALUE=DATE:20270210
DTSTAMP:20260420T131609
CREATED:20241127T143134Z
LAST-MODIFIED:20251110T210954Z
UID:10000765-1802131200-1802217599@www.kaukauna.gov
SUMMARY:Recycle Pick-Up
DESCRIPTION:
URL:https://www.kaukauna.gov/event/recycle-pick-up/2027-02-09/
CATEGORIES:For Residents
ATTACH;FMTTYPE=image/png:https://www.kaukauna.gov/wp-content/uploads/2024/11/Recycle-photo-for-website.png
END:VEVENT
BEGIN:VEVENT
DTSTART;VALUE=DATE:20270210
DTEND;VALUE=DATE:20270211
DTSTAMP:20260420T131609
CREATED:20241127T143134Z
LAST-MODIFIED:20251110T210954Z
UID:10000766-1802217600-1802303999@www.kaukauna.gov
SUMMARY:Recycle Pick-Up
DESCRIPTION:
URL:https://www.kaukauna.gov/event/recycle-pick-up/2027-02-10/
CATEGORIES:For Residents
ATTACH;FMTTYPE=image/png:https://www.kaukauna.gov/wp-content/uploads/2024/11/Recycle-photo-for-website.png
END:VEVENT
BEGIN:VEVENT
DTSTART;VALUE=DATE:20270211
DTEND;VALUE=DATE:20270212
DTSTAMP:20260420T131609
CREATED:20241127T143134Z
LAST-MODIFIED:20251110T210954Z
UID:10000767-1802304000-1802390399@www.kaukauna.gov
SUMMARY:Recycle Pick-Up
DESCRIPTION:
URL:https://www.kaukauna.gov/event/recycle-pick-up/2027-02-11/
CATEGORIES:For Residents
ATTACH;FMTTYPE=image/png:https://www.kaukauna.gov/wp-content/uploads/2024/11/Recycle-photo-for-website.png
END:VEVENT
BEGIN:VEVENT
DTSTART;TZID=America/Chicago:20270215T180000
DTEND;TZID=America/Chicago:20270215T200000
DTSTAMP:20260420T131609
CREATED:20241203T151815Z
LAST-MODIFIED:20251110T184701Z
UID:10001273-1802714400-1802721600@www.kaukauna.gov
SUMMARY:Committee Meetings
DESCRIPTION:
URL:https://www.kaukauna.gov/event/committee-meetings-2/2027-02-15/
CATEGORIES:For Residents
ATTACH;FMTTYPE=image/png:https://www.kaukauna.gov/wp-content/uploads/2024/11/Municipal-Building-Photo-for-Website.png
END:VEVENT
BEGIN:VEVENT
DTSTART;TZID=America/Chicago:20270216T190000
DTEND;TZID=America/Chicago:20270216T210000
DTSTAMP:20260420T131609
CREATED:20241127T150231Z
LAST-MODIFIED:20251110T184806Z
UID:10001142-1802804400-1802811600@www.kaukauna.gov
SUMMARY:Common Council Meeting
DESCRIPTION:
URL:https://www.kaukauna.gov/event/common-council-meeting-2/2027-02-16/
CATEGORIES:For Residents
ATTACH;FMTTYPE=image/png:https://www.kaukauna.gov/wp-content/uploads/2024/11/Municipal-Building-Photo-for-Website.png
END:VEVENT
BEGIN:VEVENT
DTSTART;VALUE=DATE:20270222
DTEND;VALUE=DATE:20270223
DTSTAMP:20260420T131609
CREATED:20241127T143134Z
LAST-MODIFIED:20251110T210954Z
UID:10000768-1803254400-1803340799@www.kaukauna.gov
SUMMARY:Recycle Pick-Up
DESCRIPTION:
URL:https://www.kaukauna.gov/event/recycle-pick-up/2027-02-22/
CATEGORIES:For Residents
ATTACH;FMTTYPE=image/png:https://www.kaukauna.gov/wp-content/uploads/2024/11/Recycle-photo-for-website.png
END:VEVENT
BEGIN:VEVENT
DTSTART;VALUE=DATE:20270223
DTEND;VALUE=DATE:20270224
DTSTAMP:20260420T131609
CREATED:20241127T143134Z
LAST-MODIFIED:20251110T210954Z
UID:10000769-1803340800-1803427199@www.kaukauna.gov
SUMMARY:Recycle Pick-Up
DESCRIPTION:
URL:https://www.kaukauna.gov/event/recycle-pick-up/2027-02-23/
CATEGORIES:For Residents
ATTACH;FMTTYPE=image/png:https://www.kaukauna.gov/wp-content/uploads/2024/11/Recycle-photo-for-website.png
END:VEVENT
BEGIN:VEVENT
DTSTART;VALUE=DATE:20270224
DTEND;VALUE=DATE:20270225
DTSTAMP:20260420T131609
CREATED:20241127T143134Z
LAST-MODIFIED:20251110T210954Z
UID:10000770-1803427200-1803513599@www.kaukauna.gov
SUMMARY:Recycle Pick-Up
DESCRIPTION:
URL:https://www.kaukauna.gov/event/recycle-pick-up/2027-02-24/
CATEGORIES:For Residents
ATTACH;FMTTYPE=image/png:https://www.kaukauna.gov/wp-content/uploads/2024/11/Recycle-photo-for-website.png
END:VEVENT
BEGIN:VEVENT
DTSTART;VALUE=DATE:20270225
DTEND;VALUE=DATE:20270226
DTSTAMP:20260420T131610
CREATED:20241127T143134Z
LAST-MODIFIED:20251110T210954Z
UID:10000771-1803513600-1803599999@www.kaukauna.gov
SUMMARY:Recycle Pick-Up
DESCRIPTION:
URL:https://www.kaukauna.gov/event/recycle-pick-up/2027-02-25/
CATEGORIES:For Residents
ATTACH;FMTTYPE=image/png:https://www.kaukauna.gov/wp-content/uploads/2024/11/Recycle-photo-for-website.png
END:VEVENT
BEGIN:VEVENT
DTSTART;TZID=America/Chicago:20270301T180000
DTEND;TZID=America/Chicago:20270301T200000
DTSTAMP:20260420T131610
CREATED:20251110T160623Z
LAST-MODIFIED:20251110T160624Z
UID:10001335-1803924000-1803931200@www.kaukauna.gov
SUMMARY:Committee Meetings
DESCRIPTION:
URL:https://www.kaukauna.gov/event/committee-meetings-3/2027-03-01/
CATEGORIES:For Residents
ATTACH;FMTTYPE=image/png:https://www.kaukauna.gov/wp-content/uploads/2024/11/Municipal-Building-Photo-for-Website.png
END:VEVENT
BEGIN:VEVENT
DTSTART;TZID=America/Chicago:20270302T190000
DTEND;TZID=America/Chicago:20270302T210000
DTSTAMP:20260420T131610
CREATED:20250630T113428Z
LAST-MODIFIED:20251110T161554Z
UID:10001084-1804014000-1804021200@www.kaukauna.gov
SUMMARY:Common Council Meeting
DESCRIPTION:
URL:https://www.kaukauna.gov/event/common-council-meeting-3/2027-03-02/
CATEGORIES:For Residents
ATTACH;FMTTYPE=image/png:https://www.kaukauna.gov/wp-content/uploads/2024/11/Municipal-Building-Photo-for-Website.png
END:VEVENT
BEGIN:VEVENT
DTSTART;VALUE=DATE:20270308
DTEND;VALUE=DATE:20270309
DTSTAMP:20260420T131610
CREATED:20241127T143134Z
LAST-MODIFIED:20251110T210954Z
UID:10000772-1804464000-1804550399@www.kaukauna.gov
SUMMARY:Recycle Pick-Up
DESCRIPTION:
URL:https://www.kaukauna.gov/event/recycle-pick-up/2027-03-08/
CATEGORIES:For Residents
ATTACH;FMTTYPE=image/png:https://www.kaukauna.gov/wp-content/uploads/2024/11/Recycle-photo-for-website.png
END:VEVENT
END:VCALENDAR